BEGIN:VCALENDAR
VERSION:2.0
PRODID:-//Okręgowa Rada Adwokacka w Warszawie - ECPv5.11.0//NONSGML v1.0//EN
CALSCALE:GREGORIAN
METHOD:PUBLISH
X-WR-CALNAME:Okręgowa Rada Adwokacka w Warszawie
X-ORIGINAL-URL:https://www.ora-warszawa.com.pl
X-WR-CALDESC:Wydarzenia dla Okręgowa Rada Adwokacka w Warszawie
BEGIN:VTIMEZONE
TZID:Europe/Warsaw
BEGIN:DAYLIGHT
TZOFFSETFROM:+0100
TZOFFSETTO:+0200
TZNAME:CEST
DTSTART:20220327T010000
END:DAYLIGHT
BEGIN:STANDARD
TZOFFSETFROM:+0200
TZOFFSETTO:+0100
TZNAME:CET
DTSTART:20221030T010000
END:STANDARD
END:VTIMEZONE
BEGIN:VEVENT
DTSTART;TZID=Europe/Warsaw:20221228T180000
DTEND;TZID=Europe/Warsaw:20221228T200000
DTSTAMP:20260424T102738
CREATED:20221228T110225Z
LAST-MODIFIED:20221228T110225Z
UID:115733-1672250400-1672257600@www.ora-warszawa.com.pl
SUMMARY:Zostań in-house w nowym roku - spotkanie online
DESCRIPTION:Komisja do spraw wsparcia w wykonywaniu zawodu serdecznie zaprasza na spotkanie online\, które odbędzie się 28 grudnia 2022 r. (środa) w godz. 18 – 20 na platformie Zoom. \nSpotkanie poprowadzi adw. Anna Atanasow\, adwokatka\, top 25 lawyers in business by Forbes\, Członkini Okręgowej Rady Adwokackiej w Warszawie\, Head of Legal w Huuuge Games\, ex General Counsel\, Global Markets w Grupie Kapitałowej CCC S.A.\, mentorka w Fundacji Women in Law. \nZa udział w szkoleniu można otrzymać 1 pkt KDZ \nLinki do rejestracji na spotkanie dla uczestników. \nhttps://ora-warszawa-pl.zoom.us/webinar/register/WN_3EqZ7xoPQtqmc_5xh08RwQ \nSerdecznie zapraszamy! \nadw. Joanna Tkaczyk-Lipnicka\nPrzewodnicząca Komisji ds. wsparcia w wykonywaniu zawodu
URL:https://www.ora-warszawa.com.pl/wydarzenie/zostan-in-house-w-nowym-roku-spotkanie-online/
CATEGORIES:ORA Warszawa
END:VEVENT
END:VCALENDAR