BEGIN:VCALENDAR
VERSION:2.0
PRODID:-//Okręgowa Rada Adwokacka w Warszawie - ECPv5.11.0//NONSGML v1.0//EN
CALSCALE:GREGORIAN
METHOD:PUBLISH
X-WR-CALNAME:Okręgowa Rada Adwokacka w Warszawie
X-ORIGINAL-URL:https://www.ora-warszawa.com.pl
X-WR-CALDESC:Wydarzenia dla Okręgowa Rada Adwokacka w Warszawie
BEGIN:VTIMEZONE
TZID:Europe/Warsaw
BEGIN:DAYLIGHT
TZOFFSETFROM:+0100
TZOFFSETTO:+0200
TZNAME:CEST
DTSTART:20240331T010000
END:DAYLIGHT
BEGIN:STANDARD
TZOFFSETFROM:+0200
TZOFFSETTO:+0100
TZNAME:CET
DTSTART:20241027T010000
END:STANDARD
END:VTIMEZONE
BEGIN:VEVENT
DTSTART;TZID=Europe/Warsaw:20241029T180000
DTEND;TZID=Europe/Warsaw:20241029T200000
DTSTAMP:20260424T153035
CREATED:20241020T084853Z
LAST-MODIFIED:20250228T095045Z
UID:133206-1730224800-1730232000@www.ora-warszawa.com.pl
SUMMARY:Zajęcia fakultatywne: "Jak oswoić AI Act"
DESCRIPTION:Szanowni Państwo\, wychodząc naprzeciw oczekiwaniom Aplikantek i Aplikantów Naszej Izby oraz mając na uwadze wyzwania powstające każdego dnia w świecie prawa nowych technologii\, Dział Szkolenia Aplikantów Adwokackich ma przyjemność zaprosić Państwa na koleje zajęcia fakultatywne adw. Aleksandry Iskry-Nowiszewskiej nt. Prawa Sztucznej Inteligencji i Nowych Technologii – Następny krok na drodze do AI. Linki do zajęć aplikanci otrzymają na maila.  \nZajęcia odbywać się będą w formie zdalnej na platformie ZOOM w dniach 24 oraz 29 października 2024 r. od godz. 17.30 i są skierowane do wszystkich tych\, którzy uczestniczyli w poprzednich spotkaniach oraz tych\, którzy chcą lepiej poznać prawo w zakresie sztucznej inteligencji. Poniżej przedstawimy Państwu zakres tematyczny zajęć\, notkę biograficzną Prelegentki oraz przekazujemy linki rejestracyjne na zajęcia. \n24 Października 2024 r. godz. 17.30 – \,\,IP w świecie AI” \n1. Czy wytwory AI podlegają ochronie?\n2. Program komputerowy a wynalazek wspomagany komputerowo\n3. AI Act a uczenie modeli AI\n4. Modele AI ogólnego przeznaczenia\n5. AI Act w świetle dyrektywy DSM\n6. Wykorzystywanie systemów AI do zdalnej identyfikacji biometrycznej \n29 Października 2024 r. godz. 17.30 – „Jak oswoić AI Act?” \n1. Zasady odpowiedzialności w łańcuchu wartości AI\n2. Ocena skutków systemów AI wysokiego ryzyka dla praw podstawowych\n3. Jednostki notyfikowane i certyfikaty\n4. Systemy AI a oznakowanie CE\n5. Urząd ds. AI i Rada ds. AI\n6. Po co ustanawiać piaskownice regulacyjne? \nAdwokat Aleksandra Iskra-Nowiszewska specjalizuje się w prawie własności intelektualnej oraz prawie nowych technologii. Założycielka Kancelarii Adwokackiej AIskra. Etyczka AI. TOP 100 Women in AI w Polsce według rankingu Perspektyw. Członkini Instytutu LegalTech przy Naczelnej Radzie Adwokackiej. W latach 2021-2023 Przewodnicząca Sekcji Prawa Autorskiego i Nowych Technologii przy Okręgowej Radzie Adwokackiej w Warszawie. Stypendystka Uniwersytetu Genewskiego. Wykładowczyni. Prowadząca szkolenia z zakresu prawa nowych technologii\, ze szczególnym uwzględnieniem tematyki sztucznej inteligencji. Jej zespół otrzymał wyróżnienie UNICEF podczas Global Legal Hackathon za pomysł stworzenia aplikacji dla dzieci i młodzieży z zakresu pierwszej pomocy psychologicznej \,\,U OK”. \nSerdecznie zapraszamy!
URL:https://www.ora-warszawa.com.pl/wydarzenie/zajecia-fakultatywne-jak-oswoic-ai-act/
CATEGORIES:DSA
END:VEVENT
END:VCALENDAR