BEGIN:VCALENDAR
VERSION:2.0
PRODID:-//Okręgowa Rada Adwokacka w Warszawie - ECPv5.11.0//NONSGML v1.0//EN
CALSCALE:GREGORIAN
METHOD:PUBLISH
X-WR-CALNAME:Okręgowa Rada Adwokacka w Warszawie
X-ORIGINAL-URL:https://www.ora-warszawa.com.pl
X-WR-CALDESC:Wydarzenia dla Okręgowa Rada Adwokacka w Warszawie
BEGIN:VTIMEZONE
TZID:Europe/Warsaw
BEGIN:DAYLIGHT
TZOFFSETFROM:+0100
TZOFFSETTO:+0200
TZNAME:CEST
DTSTART:20220327T010000
END:DAYLIGHT
BEGIN:STANDARD
TZOFFSETFROM:+0200
TZOFFSETTO:+0100
TZNAME:CET
DTSTART:20221030T010000
END:STANDARD
END:VTIMEZONE
BEGIN:VEVENT
DTSTART;TZID=Europe/Warsaw:20221212T170000
DTEND;TZID=Europe/Warsaw:20221212T201500
DTSTAMP:20260424T121103
CREATED:20220926T171858Z
LAST-MODIFIED:20221024T104632Z
UID:67674-1670864400-1670876100@www.ora-warszawa.com.pl
SUMMARY:Zajęcia fakultatywne dla aplikantów: Proces Inwestycyjno-Budowlany - 8 blok
DESCRIPTION:Zachęcamy aplikantów do udziału w zajęciach fakultatywnych „Proces Inwestycyjno-Budowlany”. Szczegóły dotyczące tematów i terminów znajdują się pod tym linkiem.\n\n \n12 grudnia br. w godz. 17:00-20:15 odbędzie się 8 blok: \n\n\n\n\nEtap postępowania: Wykonywanie robót budowlanych. \n\n\n\n\n\n\n\n\n\n\n\n\nUsunięcie drzew lub krzewów z nieruchomości \n\n\n\n\nWykonywanie robót budowlanych \n1) Umowa na roboty budowlane \n2) Umowa deweloperska \n\n\n\n\n\n\n\n\n\n\n\n\n\nZajęcia poprowadzi adw. dr Karolina Wojciechowska.\n\n\nInformujemy\, iż linki do zajęć zostały wysłane mailowo do grupy docelowej.
URL:https://www.ora-warszawa.com.pl/wydarzenie/zajecia-fakultatywne-dla-aplikantow-proces-inwestycyjno-budowlany-8-blok/
LOCATION:Platforma ZOOM
CATEGORIES:DSA
END:VEVENT
END:VCALENDAR