BEGIN:VCALENDAR
VERSION:2.0
PRODID:-//Okręgowa Rada Adwokacka w Warszawie - ECPv5.11.0//NONSGML v1.0//EN
CALSCALE:GREGORIAN
METHOD:PUBLISH
X-WR-CALNAME:Okręgowa Rada Adwokacka w Warszawie
X-ORIGINAL-URL:https://www.ora-warszawa.com.pl
X-WR-CALDESC:Wydarzenia dla Okręgowa Rada Adwokacka w Warszawie
BEGIN:VTIMEZONE
TZID:Europe/Warsaw
BEGIN:DAYLIGHT
TZOFFSETFROM:+0100
TZOFFSETTO:+0200
TZNAME:CEST
DTSTART:20220327T010000
END:DAYLIGHT
BEGIN:STANDARD
TZOFFSETFROM:+0200
TZOFFSETTO:+0100
TZNAME:CET
DTSTART:20221030T010000
END:STANDARD
END:VTIMEZONE
BEGIN:VEVENT
DTSTART;TZID=Europe/Warsaw:20220518T181500
DTEND;TZID=Europe/Warsaw:20220518T201500
DTSTAMP:20260424T121159
CREATED:20220412T123940Z
LAST-MODIFIED:20220412T123940Z
UID:55010-1652897700-1652904900@www.ora-warszawa.com.pl
SUMMARY:Zajęcia fakultatywne dla aplikantów adwokackich: Taktyka obrony karnej - blok nr 4
DESCRIPTION:BLOK 4: SZCZEGÓLNE CZYNNOŚCI POSTĘPOWANIA PRZYGOTOWAWCZEGO\n18 MAJ 2022\, GODZ. 18:15 \nLink: https://zoom.us/j/97572970575?pwd=MlFLWXR3ZUZtMjJJUW84dnJKU2Z5Zz09 \nBlok będzie miał formę wykładu z przytoczeniem praktycznych przykładów sytuacji wraz ze wskazaniem właściwego sposobu reakcji\, w tym w szczególności w trakcie zatrzymania\, przeszukania osób i miejsc\, okazania oraz pobierania od podejrzanego materiału dowodowego.
URL:https://www.ora-warszawa.com.pl/wydarzenie/zajecia-fakultatywne-dla-aplikantow-adwokackich-taktyka-obrony-karnej-blok-nr-4/
LOCATION:Platforma ZOOM
CATEGORIES:ORA Warszawa
END:VEVENT
END:VCALENDAR