BEGIN:VCALENDAR
VERSION:2.0
PRODID:-//Okręgowa Rada Adwokacka w Warszawie - ECPv5.11.0//NONSGML v1.0//EN
CALSCALE:GREGORIAN
METHOD:PUBLISH
X-WR-CALNAME:Okręgowa Rada Adwokacka w Warszawie
X-ORIGINAL-URL:https://www.ora-warszawa.com.pl
X-WR-CALDESC:Wydarzenia dla Okręgowa Rada Adwokacka w Warszawie
BEGIN:VTIMEZONE
TZID:Europe/Warsaw
BEGIN:DAYLIGHT
TZOFFSETFROM:+0100
TZOFFSETTO:+0200
TZNAME:CEST
DTSTART:20220327T010000
END:DAYLIGHT
BEGIN:STANDARD
TZOFFSETFROM:+0200
TZOFFSETTO:+0100
TZNAME:CET
DTSTART:20221030T010000
END:STANDARD
END:VTIMEZONE
BEGIN:VEVENT
DTSTART;TZID=Europe/Warsaw:20220517T160000
DTEND;TZID=Europe/Warsaw:20220517T180000
DTSTAMP:20260426T024609
CREATED:20220412T122915Z
LAST-MODIFIED:20220412T122915Z
UID:55004-1652803200-1652810400@www.ora-warszawa.com.pl
SUMMARY:Zajęcia fakultatywne dla aplikantów adwokackich: Taktyka obrony karnej - blok nr 1
DESCRIPTION:BLOK 1: PRZYGOTOWANIE DO PROWADZENIA SPRAWY KARNEJ\n17 MAJA 2022\, GODZ. 16:00 \nLink: https://zoom.us/j/99356980820?pwd=eVJacHo5Tk5pTStpSWNtUWpmMXVPQT09 \nBlok obejmuje następujące zagadnienia: \nKontakt z potencjalnym klientem (konflikt interesów\, prowadzenie pierwszej rozmowy\, ważenie szczegółowości informacji\, obowiązki dotyczące przyjęcia sprawy\, umowa o prowadzenie obrony);\nAnaliza akt sprawy (ustalenie istotnych okoliczności\, analiza dowodów\, zbieranie dowodów\, taktyka działań);\nPrzygotowanie do poszczególnych rozpraw (znajomość akt\, ocena istotności\, przygotowanie klienta do czynności\, aspekty etyczne przygotowania świadków\, przygotowanie prywatnych dowodów);\nPrzesłuchanie biegłego\, jako szczególna czynność (działanie z opiniami biegłych\, taktyka przesłuchiwania biegłych).
URL:https://www.ora-warszawa.com.pl/wydarzenie/zajecia-fakultatywne-dla-aplikantow-adwokackich-taktyka-obrony-karnej-blok-nr-1/
LOCATION:Platforma ZOOM
CATEGORIES:ORA Warszawa
END:VEVENT
END:VCALENDAR