BEGIN:VCALENDAR
VERSION:2.0
PRODID:-//Okręgowa Rada Adwokacka w Warszawie - ECPv5.11.0//NONSGML v1.0//EN
CALSCALE:GREGORIAN
METHOD:PUBLISH
X-WR-CALNAME:Okręgowa Rada Adwokacka w Warszawie
X-ORIGINAL-URL:https://www.ora-warszawa.com.pl
X-WR-CALDESC:Wydarzenia dla Okręgowa Rada Adwokacka w Warszawie
BEGIN:VTIMEZONE
TZID:Europe/Warsaw
BEGIN:DAYLIGHT
TZOFFSETFROM:+0100
TZOFFSETTO:+0200
TZNAME:CEST
DTSTART:20230326T010000
END:DAYLIGHT
BEGIN:STANDARD
TZOFFSETFROM:+0200
TZOFFSETTO:+0100
TZNAME:CET
DTSTART:20231029T010000
END:STANDARD
END:VTIMEZONE
BEGIN:VEVENT
DTSTART;TZID=Europe/Warsaw:20230520T090000
DTEND;TZID=Europe/Warsaw:20230520T130000
DTSTAMP:20260424T121155
CREATED:20230516T103222Z
LAST-MODIFIED:20230516T103222Z
UID:119455-1684573200-1684587600@www.ora-warszawa.com.pl
SUMMARY:Wykład: Przygotowanie skargi i reprezentacja klienta przed Europejskim Trybunałem Praw Człowieka
DESCRIPTION:Komisja Aplikacji Adwokackiej oraz Komisja Praw Człowieka Naczelnej Rady Adwokackiej serdecznie zapraszają na wykład „Przygotowanie skargi i reprezentacja klienta przed Europejskim Trybunałem Praw Człowieka”. \n \n \nWykład odbędzie się online na platformie ClickMeeting w dniu 20 maja (sobota) w godz. 9:00 – 13:00. Poprowadzą go adw. Małgorzata Mączka-Pacholak oraz adw. dr Artur Pietryka. \nLink: https://nra.clickmeeting.com/przygotowanie-skargi-i-reprezentacja-klienta-przed-europejskim-trybunalem-praw-czlowieka \nWykład jest także dodatkowo wstępem i wprowadzeniem do II Ogólnopolskiego turnieju sądowego dla aplikantów adwokackich – Moot Court przed ETPCZ. Szczegóły dot. Turnieju zostaną opublikowane na dniach. \nPo wykładzie w godz. 13:00 – 13:30 odbędzie się spotkanie informacyjne dot. zasad uczestnictwa w Turnieju\, do którego już dzisiaj serdecznie zachęcamy. \nTurniej oraz wykład odbywają się w 30 rocznicę ratyfikacji Europejskiej Konwencji o Ochronie Praw Człowieka i Podstawowych Wolności przez Polskę i uznania jurysdykcji Europejskiego Trybunału Praw Człowieka. \nSerdecznie zapraszamy\, \nKomisja Aplikacji Adwokackiej  \nKomisja Praw Człowieka
URL:https://www.ora-warszawa.com.pl/wydarzenie/wyklad-przygotowanie-skargi-i-reprezentacja-klienta-przed-europejskim-trybunalem-praw-czlowieka/
CATEGORIES:Wydarzenia zewnętrzne
END:VEVENT
END:VCALENDAR