BEGIN:VCALENDAR
VERSION:2.0
PRODID:-//Okręgowa Rada Adwokacka w Warszawie - ECPv5.11.0//NONSGML v1.0//EN
CALSCALE:GREGORIAN
METHOD:PUBLISH
X-WR-CALNAME:Okręgowa Rada Adwokacka w Warszawie
X-ORIGINAL-URL:https://www.ora-warszawa.com.pl
X-WR-CALDESC:Wydarzenia dla Okręgowa Rada Adwokacka w Warszawie
BEGIN:VTIMEZONE
TZID:Europe/Warsaw
BEGIN:DAYLIGHT
TZOFFSETFROM:+0100
TZOFFSETTO:+0200
TZNAME:CEST
DTSTART:20260329T010000
END:DAYLIGHT
BEGIN:STANDARD
TZOFFSETFROM:+0200
TZOFFSETTO:+0100
TZNAME:CET
DTSTART:20261025T010000
END:STANDARD
END:VTIMEZONE
BEGIN:VEVENT
DTSTART;TZID=Europe/Warsaw:20260421T160000
DTEND;TZID=Europe/Warsaw:20260421T170000
DTSTAMP:20260424T165804
CREATED:20260420T122905Z
LAST-MODIFIED:20260420T122905Z
UID:143995-1776787200-1776790800@www.ora-warszawa.com.pl
SUMMARY:Wykład prof. Lecha Garlickiego pt. „Konstytucja alternatywna? Czy w Polsce ukształtował się nowy porządek konstytucyjny?”
DESCRIPTION:Uczelnia Łazarskiego oraz Dziekan Wydziału Prawa i Administracji\, prof. UŁa dr hab. Eligiusz Krześniak\, zapraszają na wykład otwarty pt. „Konstytucja alternatywna? Czy w Polsce ukształtował się nowy porządek konstytucyjny?”\, który wygłosi prof. Lech Garlicki. \nWykład odbędzie się 21 kwietnia 2026 r. w godz. 16:00–17:00 w Auli 58 na Uczelni Łazarskiego. Wydarzenie będzie miało charakter hybrydowy – możliwy jest udział zarówno stacjonarny\, jak i online. \nProf. dr hab. Lech Garlicki to wybitny konstytucjonalista\,  sędzia Trybunału Konstytucyjnego w stanie spoczynku oraz były sędzia Europejskiego Trybunału Praw Człowieka\, autor licznych publikacji z zakresu prawa konstytucyjnego\, który niedawno dołączył do grona wykładowców\nUczelni  Łazarskiego. \nWprowadzenie wygłosi Jerzy Stępień – były prezes Trybunału Konstytucyjnego\, sędzia Trybunału Konstytucyjnego w stanie spoczynku oraz współtwórca reform ustrojowych po 1989 roku. \nSpotkanie stanowić będzie wyjątkową okazję do pogłębionej refleksji nad funkcjonowaniem Konstytucji RP\, w szczególności w kontekście przemian dotyczących sądownictwa\, roli Trybunału Konstytucyjnego\, a także kierunków rozwoju państwa prawa. \nTransmisja online:\nhttps://youtube.com/live/OVTEezGA8U4?feature=share
URL:https://www.ora-warszawa.com.pl/wydarzenie/wyklad-prof-lecha-garlickiego-pt-konstytucja-alternatywna-czy-w-polsce-uksztaltowal-sie-nowy-porzadek-konstytucyjny/
CATEGORIES:Wydarzenia zewnętrzne
END:VEVENT
END:VCALENDAR