BEGIN:VCALENDAR
VERSION:2.0
PRODID:-//Okręgowa Rada Adwokacka w Warszawie - ECPv5.11.0//NONSGML v1.0//EN
CALSCALE:GREGORIAN
METHOD:PUBLISH
X-WR-CALNAME:Okręgowa Rada Adwokacka w Warszawie
X-ORIGINAL-URL:https://www.ora-warszawa.com.pl
X-WR-CALDESC:Wydarzenia dla Okręgowa Rada Adwokacka w Warszawie
BEGIN:VTIMEZONE
TZID:Europe/Warsaw
BEGIN:DAYLIGHT
TZOFFSETFROM:+0100
TZOFFSETTO:+0200
TZNAME:CEST
DTSTART:20230326T010000
END:DAYLIGHT
BEGIN:STANDARD
TZOFFSETFROM:+0200
TZOFFSETTO:+0100
TZNAME:CET
DTSTART:20231029T010000
END:STANDARD
END:VTIMEZONE
BEGIN:VEVENT
DTSTART;TZID=Europe/Warsaw:20230914T183000
DTEND;TZID=Europe/Warsaw:20230914T203000
DTSTAMP:20260424T154834
CREATED:20230906T083603Z
LAST-MODIFIED:20230906T083603Z
UID:121327-1694716200-1694723400@www.ora-warszawa.com.pl
SUMMARY:Wieczór autorski z dr hab. Przemysławem Polańskim redaktorem publikacji „Brzechwa. Poeta w Adwokackiej Todze”
DESCRIPTION:Okręgowa Rada Adwokacka w Warszawie\, Komisja Integracji Środowiskowej\, Kultury i Sportu oraz Wydawnictwo C.H BECK serdecznie zapraszają na wieczór autorski z dr hab. Przemysławem Polańskim redaktorem publikacji „Brzechwa. Poeta w Adwokackiej Todze”. \n \nDr hab. nauk prawnych Przemysław Polański jest profesorem nadzwyczajnym Akademii Leona Koźmińskiego\, z wykształcenia prawnikiem oraz informatykiem. Jest jednym z czołowych ekspertów w Polsce w zakresie europejskiego i międzynarodowego prawa nowych technologii. Posiada także bogate doświadczenie jako projektant złożonych systemów informatycznych – główny architekt systemu informacji prawnej Legalis od 2007 r.  Jest znawcą zwyczajów panujących w branży IT\, opublikował książkę na ten temat: Customary law of the Internet\, wydaną przez prestiżowy T.M.C Asser Press. Autor ponad 100 publikacji naukowych z obszaru prawa IT. \nWraz z adw. Jakubem Jacyną przedstawi Państwu historię publikacji „Brzechwa. Poeta w adwokackiej todze”. Monografia jest pierwszym opracowaniem spuścizny Brzechwy jako prawnika. Przedstawia jego międzynarodowy dorobek oraz wpływ działalności na treść i doktrynę prawa w Polsce. Autorzy starają się przybliżyć wątki prawnicze w biografii artysty i podkreślić jego rolę w kształtowaniu się systemu prawnego\, a także świadomości prawnej w Polsce i na świecie. \nKsiążka jest adresowana nie tylko do osób zainteresowanych życiem i twórczością Jana Brzechwy\, ale także prawników zainteresowanych rozwojem prawa autorskiego\, w którym poeta odegrał znaczącą rolę. Dzięki połączeniu wątków biograficznych z prawniczymi i historycznymi publikacja ma uniwersalny charakter i z pewnością będzie niezwykle interesująca pozycją dla czytelników. \nPublikacja ma znamienitych współautorów: Ewa Fabian\, dr Dawid Kot\, dr hab. prof. UW Wojciech Machała\, oraz Mariusz Urbanek \nNasi goście odpowiedzą też chętnie na pytania związane z powstawaniem i rolą systemu informacji prawnej LEGALIS.  \nSpotkanie odbędzie się w dniu 14 września 2023 roku o godzinie 18.30 w siedzibie ORA w Warszawie przy al. Ujazdowskich 49. \nPodczas wieczoru autorskiego będzie możliwość nabycia książki a także innych publikacji Wydawnictwa C. H. Beck.   \nBędzie można też uzyskać więcej informacji o specjalnej ofercie na SIP Legalis dla członków naszej Izby\, która obowiązuje do 31 grudnia br.\, szczegóły której przedstawi Pan Kamil Kowalski : \nhttps://www.ora-warszawa.com.pl/aktualnosci/specjalna-oferta-rabaty-sip-legalis-dla-czlonkow-naszej-izby/ \nPo spotkaniu zapraszamy na mały poczęstunek i lampkę wina\, w trakcie którego autor książki będzie podpisywał wszystkie egzemplarze. \nDo zobaczenia na spotkaniu! \nWstęp wolny. \nadw. Monika Rajska\, Przewodnicząca Komisji Integracji Środowiskowej Kultury i Sportu \nadw. Joanna Tkaczyk – Lipnicka\, Wiceprzewodnicząca Komisji Integracji Środowiskowej Kultury i Sportu
URL:https://www.ora-warszawa.com.pl/wydarzenie/wieczor-autorski-z-dr-hab-przemyslawem-polanskim-redaktorem-publikacji-brzechwa-poeta-w-adwokackiej-todze/
CATEGORIES:ORA Warszawa
END:VEVENT
END:VCALENDAR