BEGIN:VCALENDAR
VERSION:2.0
PRODID:-//Okręgowa Rada Adwokacka w Warszawie - ECPv5.11.0//NONSGML v1.0//EN
CALSCALE:GREGORIAN
METHOD:PUBLISH
X-WR-CALNAME:Okręgowa Rada Adwokacka w Warszawie
X-ORIGINAL-URL:https://www.ora-warszawa.com.pl
X-WR-CALDESC:Wydarzenia dla Okręgowa Rada Adwokacka w Warszawie
BEGIN:VTIMEZONE
TZID:Europe/Warsaw
BEGIN:DAYLIGHT
TZOFFSETFROM:+0100
TZOFFSETTO:+0200
TZNAME:CEST
DTSTART:20220327T010000
END:DAYLIGHT
BEGIN:STANDARD
TZOFFSETFROM:+0200
TZOFFSETTO:+0100
TZNAME:CET
DTSTART:20221030T010000
END:STANDARD
END:VTIMEZONE
BEGIN:VEVENT
DTSTART;TZID=Europe/Warsaw:20220519T183000
DTEND;TZID=Europe/Warsaw:20220519T200000
DTSTAMP:20260424T121003
CREATED:20220517T094810Z
LAST-MODIFIED:20220517T094810Z
UID:55570-1652985000-1652990400@www.ora-warszawa.com.pl
SUMMARY:Webinarium nt. zbierania dowodów zbrodni wojennych w Ukrainie
DESCRIPTION:Zbieranie informacji o naruszeniach międzynarodowego prawa humanitarnego i innych zbrodniach popełnianych w Ukrainie od 24 lutego 2022 – dlaczego jest to ważne i jak to robić to temat kolejnego webinarium\, tym razem zaplanowanego na 19 maja br. Prelegentem będzie dr Anna Adamska-Gallant. \nWebinarium rozpocznie się 19 maja br. o godz. 18.30\, zakończy się o godz. 20.00. \nRejestracja pod linkiem: https://us06web.zoom.us/webinar/register/WN_nmfkuJZ2SQaDGk2u1eUoRQ \nNa webinarium zapraszają: Naczelna Rada Adwokacka\, Komisja Praw Człowieka NRA\, Okręgowa Rada Adwokacka w Warszawie\, Project Sunflower. \nPartnerami webinarium są: Stowarzyszenie Interwencji Prawnej\, Pravo-Justice\, Moving Forward Together\, Centre for International Humanitarian Law and Transitional Justice\, The Peace and Justice Initiative\, Meritum\, AIDP. \nDr Anna Adamska-Gallant jest prawnikiem z ponad 20-letnim doświadczeniem. Specjalizuje się w prawie karnym\, w tym międzynarodowym oraz prawach człowieka. Uzyskała tytuł doktora nauk prawnych\, broniąc na Uniwersytecie Wrocławskim pracy doktorskiej poświęconej świadkom zbrodni wojennych występujących przed sądami międzynarodowymi i hybrydowymi. Przez niemal 11 lat pełniła służbę sędziego w Polsce\, orzekając w sprawach karnych. W latach 2013 – 2018 pracowała jako sędzia międzynarodowy na Bałkanach\, gdzie sądziła sprawy o zbrodnie wojenne i przeciwko ludzkości popełnione w czasie konfliktów na terenie byłej Jugosławii. Jest ekspertem Unii Europejskiej na Ukrainie\, gdzie doradza w procesie reformy wymiaru sprawiedliwości\, tak aby ukraińskie sądy spełniały standardy niezależności i niezawisłości. Prowadzi szkolenia dla tamtejszych sędziów. Jest również wykładowcą na Uniwersytecie Wrocławskim\, w Katedrze Kryminologii i Bezpieczeństwa. Biegle władam językami: angielskim\, ukraińskim\, jak też posługuję się francuskim\, serbskim oraz rosyjskim.
URL:https://www.ora-warszawa.com.pl/wydarzenie/webinarium-nt-zbierania-dowodow-zbrodni-wojennych-w-ukrainie/
LOCATION:Platforma ZOOM
CATEGORIES:ORA Warszawa,Wydarzenia zewnętrzne
END:VEVENT
END:VCALENDAR