BEGIN:VCALENDAR
VERSION:2.0
PRODID:-//Okręgowa Rada Adwokacka w Warszawie - ECPv5.11.0//NONSGML v1.0//EN
CALSCALE:GREGORIAN
METHOD:PUBLISH
X-WR-CALNAME:Okręgowa Rada Adwokacka w Warszawie
X-ORIGINAL-URL:https://www.ora-warszawa.com.pl
X-WR-CALDESC:Wydarzenia dla Okręgowa Rada Adwokacka w Warszawie
BEGIN:VTIMEZONE
TZID:Europe/Warsaw
BEGIN:DAYLIGHT
TZOFFSETFROM:+0100
TZOFFSETTO:+0200
TZNAME:CEST
DTSTART:20230326T010000
END:DAYLIGHT
BEGIN:STANDARD
TZOFFSETFROM:+0200
TZOFFSETTO:+0100
TZNAME:CET
DTSTART:20231029T010000
END:STANDARD
END:VTIMEZONE
BEGIN:VEVENT
DTSTART;TZID=Europe/Warsaw:20230919T160000
DTEND;TZID=Europe/Warsaw:20230919T173000
DTSTAMP:20260424T135133
CREATED:20230907T070745Z
LAST-MODIFIED:20230907T070745Z
UID:121343-1695139200-1695144600@www.ora-warszawa.com.pl
SUMMARY:Webinar: Apelacja od wyroku karnego – metodyka poszukiwania uchybień i formułowania zarzutów odwoławczych
DESCRIPTION:19 września w godz. 16:00-17:30 odbędzie się webinar dla aplikantów adwokackich: Apelacja od wyroku karnego – metodyka poszukiwania uchybień i formułowania zarzutów odwoławczych\, który prowadzi prof. Dariusz Świecki. \n \nW czasie webinaru prof. Dariusz Świecki: \n\nwskaże obszary poszukiwania uchybień w aktach sprawy karnej (pod kątem zaistnienia uchybień z art. 439 k.p.k. i art. 438 k.p.k.)\nprzedstawi zasady formułowania zarzutów odwoławczych oraz ich uzasadniania\nopisze sytuacje\, w których pomimo stwierdzenia uchybienia\, zarzut odwoławczy nie może zostać postawiony z uwagi na jego nieskuteczność.\n\nWięcej informacji: https://info.wolterskluwer.com/webinar-dla-aplikantow
URL:https://www.ora-warszawa.com.pl/wydarzenie/webinar-apelacja-od-wyroku-karnego-metodyka-poszukiwania-uchybien-i-formulowania-zarzutow-odwolawczych-2/
CATEGORIES:Wydarzenia zewnętrzne
END:VEVENT
END:VCALENDAR