BEGIN:VCALENDAR
VERSION:2.0
PRODID:-//Okręgowa Rada Adwokacka w Warszawie - ECPv5.11.0//NONSGML v1.0//EN
CALSCALE:GREGORIAN
METHOD:PUBLISH
X-WR-CALNAME:Okręgowa Rada Adwokacka w Warszawie
X-ORIGINAL-URL:https://www.ora-warszawa.com.pl
X-WR-CALDESC:Wydarzenia dla Okręgowa Rada Adwokacka w Warszawie
BEGIN:VTIMEZONE
TZID:Europe/Warsaw
BEGIN:DAYLIGHT
TZOFFSETFROM:+0100
TZOFFSETTO:+0200
TZNAME:CEST
DTSTART:20220327T010000
END:DAYLIGHT
BEGIN:STANDARD
TZOFFSETFROM:+0200
TZOFFSETTO:+0100
TZNAME:CET
DTSTART:20221030T010000
END:STANDARD
END:VTIMEZONE
BEGIN:VEVENT
DTSTART;TZID=Europe/Warsaw:20221207T093000
DTEND;TZID=Europe/Warsaw:20221207T163000
DTSTAMP:20260424T103005
CREATED:20221114T103815Z
LAST-MODIFIED:20221114T103815Z
UID:68582-1670405400-1670430600@www.ora-warszawa.com.pl
SUMMARY:Szkolenie: „VIII Konferencja: Ochrona Danych Osobowych. Podsumowanie 2022 r. i zmiany w 2023 r.”
DESCRIPTION:Komisja Doskonalenia Zawodowego przy Okręgowej Radzie Adwokackiej w Warszawie wraz z Beck Akademią zaprasza na szkolenie dla adwokatów i aplikantów adwokackich: \n„VIII Konferencja: Ochrona Danych Osobowych. Podsumowanie 2022 r. i zmiany w 2023 r.” \nPrelegenci: dr Edyta Bielak-Jomaa\, Julia Bonder-Le Berre\, r. pr. Marcin Chołuj\,\nr. pr. Maciej Gawroński\, adw. Karolina Gałęzowska\, r. pr. dr Damian Karwala\,\nadw. Anna Kobylańska\, Izabela Kowalczuk-Pakuła\, adw. Sławomir Kowalski\,\nr. pr. Ewa Kurowska-Tober\, adw. dr Paweł Litwiński\, r. pr. dr Dominik Lubasz\,\nr. pr. dr Bartosz Marcinkowski\, dr hab. Arwid Mednis\, r. pr. Dominika Nowak-Byrtek\,\nadw. dr hab. Grzegorz Sibiga\, prof. INP PAN\, mgr Monika Sobczyk\, Maciej Szpunar\,\nr. pr. Patrycja Szurmak\, dr hab. prof. UŁa Przemysław Szustakiewicz\,\ndr Mateusz Trokielewicz \nTermin: 7 grudnia 2022 r.\, godz. 9.30-16.30 \nCena z rabatem 15%*: 977\,50 zł z VAT \n*cena z wykorzystaniem aktualnego kodu rabatowego \nSzczegóły i rejestracja: https://www.akademia.beck.pl/szkolenie/1189-viii-konferencja-ochrona-danych-osobowych-podsumowanie-2022-r-i-zmiany-w-2023-r-?utm_source=ora-warszawa.com.pl&utm_medium=polecamy \nWykład będzie prowadzony na żywo za pośrednictwem platformy szkoleniowej\n(ClickMeeting albo Microsoft Teams). \nZa udział w szkoleniu można uzyskać punkty szkoleniowe w ramach doskonalenia zawodowego. \nSerdecznie zapraszamy!
URL:https://www.ora-warszawa.com.pl/wydarzenie/szkolenie-viii-konferencja-ochrona-danych-osobowych-podsumowanie-2022-r-i-zmiany-w-2023-r/
CATEGORIES:Wydarzenia zewnętrzne
END:VEVENT
END:VCALENDAR