BEGIN:VCALENDAR
VERSION:2.0
PRODID:-//Okręgowa Rada Adwokacka w Warszawie - ECPv5.11.0//NONSGML v1.0//EN
CALSCALE:GREGORIAN
METHOD:PUBLISH
X-WR-CALNAME:Okręgowa Rada Adwokacka w Warszawie
X-ORIGINAL-URL:https://www.ora-warszawa.com.pl
X-WR-CALDESC:Wydarzenia dla Okręgowa Rada Adwokacka w Warszawie
BEGIN:VTIMEZONE
TZID:Europe/Warsaw
BEGIN:DAYLIGHT
TZOFFSETFROM:+0100
TZOFFSETTO:+0200
TZNAME:CEST
DTSTART:20220327T010000
END:DAYLIGHT
BEGIN:STANDARD
TZOFFSETFROM:+0200
TZOFFSETTO:+0100
TZNAME:CET
DTSTART:20221030T010000
END:STANDARD
END:VTIMEZONE
BEGIN:VEVENT
DTSTART;TZID=Europe/Warsaw:20221129T180000
DTEND;TZID=Europe/Warsaw:20221129T200000
DTSTAMP:20260424T154722
CREATED:20221118T145428Z
LAST-MODIFIED:20221118T145428Z
UID:68750-1669744800-1669752000@www.ora-warszawa.com.pl
SUMMARY:Szkolenie SSP: Zmiany w komunikacji i reklamie wynikające z implementacji dyrektywy "Omnibus" - nowy obowiązek wskazania najniższej ceny w ciągu 30 dni przed obniżką
DESCRIPTION:Sekcja Prawa Mediów i Reklamy przy Okręgowej Radzie Adwokackiej w Warszawie serdecznie zaprasza na wykład pt. Zmiany w komunikacji i reklamie wynikające z implementacji dyrektywy „Omnibus” – nowy obowiązek wskazania najniższej ceny w ciągu 30 dni przed obniżką \nPrelegent : adw. Ewa Gojniczek-Godlewska \nSzkolenie odbędzie się 29 listopada 2022 r. (wtorek) w godz. 18.00 – 20.00  hybrydowo (platformie ZOOM + siedziba Okręgowej Rady Adwokackiej w Warszawie Sala im. H.Krajewskiego (1 piętro) \nLink do rejestracji na szkolenie: https://ora-warszawa-pl.zoom.us/webinar/register/WN_0MAvfSS8ST-j99AGhk2_ag \nZapraszamy do zapisów! \nUczestnicy otrzymają 2 punkty szkoleniowe za udział w spotkaniu. \n 
URL:https://www.ora-warszawa.com.pl/wydarzenie/szkolenie-ssp-zmiany-w-komunikacji-i-reklamie-wynikajace-z-implementacji-dyrektywy-omnibus-nowy-obowiazek-wskazania-najnizszej-ceny-w-ciagu-30-dni-przed-obnizka/
LOCATION:ORA Warszawa + platforma ZOOM
CATEGORIES:Sekcje Praktyków Prawa
END:VEVENT
END:VCALENDAR