BEGIN:VCALENDAR
VERSION:2.0
PRODID:-//Okręgowa Rada Adwokacka w Warszawie - ECPv5.11.0//NONSGML v1.0//EN
CALSCALE:GREGORIAN
METHOD:PUBLISH
X-WR-CALNAME:Okręgowa Rada Adwokacka w Warszawie
X-ORIGINAL-URL:https://www.ora-warszawa.com.pl
X-WR-CALDESC:Wydarzenia dla Okręgowa Rada Adwokacka w Warszawie
BEGIN:VTIMEZONE
TZID:Europe/Warsaw
BEGIN:DAYLIGHT
TZOFFSETFROM:+0100
TZOFFSETTO:+0200
TZNAME:CEST
DTSTART:20260329T010000
END:DAYLIGHT
BEGIN:STANDARD
TZOFFSETFROM:+0200
TZOFFSETTO:+0100
TZNAME:CET
DTSTART:20261025T010000
END:STANDARD
END:VTIMEZONE
BEGIN:VEVENT
DTSTART;TZID=Europe/Warsaw:20260330T170000
DTEND;TZID=Europe/Warsaw:20260330T190000
DTSTAMP:20260424T103135
CREATED:20260316T134759Z
LAST-MODIFIED:20260316T134759Z
UID:143283-1774890000-1774897200@www.ora-warszawa.com.pl
SUMMARY:Szkolenie SPP: Wybrane nowe zasady przyłączania do sieci w świetle ustawy z dnia 13 marca 2026 r. o zmianie ustawy Prawo energetyczne oraz niektórych innych ustaw
DESCRIPTION:Sekcja Prawa Energetycznego przy ORA w Warszawie zaprasza na szkolenie pt. „Wybrane nowe zasady przyłączania do sieci w świetle ustawy z dnia 13 marca 2026 r. o zmianie ustawy Prawo energetyczne oraz niektórych innych ustaw”\, które odbędzie się w poniedziałek\, 30 marca 2026 r. o godz. 17.00 w siedzibie Okręgowej Rady Adwokackiej w Warszawie.\n\nSzkolenie zostanie poprowadzone przez radcę prawnego dra Zdzisława Murasa.\nPrelegent: Zdzisław Muras – doktora nauk prawnych\, radca prawny\, wieloletni pracownik Urzędu Regulacji Energetyki. Jest autorem i współautorem kilkudziesięciu publikacji naukowych\, w tym książek i opracowań zwartych\, licznych glos do orzeczeń Sądu Najwyższego i artykułów z zakresu prawa energetycznego (związanych z energetyką odnawialną\, efektywnością energetyczną\, kogeneracją\, koncesjonowaniem\, czy rynkiem paliw ciekłych). Jest redaktorem i współautorem m.in. komentarza do Prawa energetycznego (2016 r.). \nSzkolenie będzie dotyczyło najważniejszych zmian przewidzianych w tzw. nowelizacji sieciowej (rządowy projekt UC84). W założeniu projektodawców nowe przepisy mają doprowadzić do uproszczenia oraz usprawnienia procesu przyłączania instalacji do sieci. Celem planowanych zmian jest m.in. ograniczenie formalności\, zwiększenie przewidywalności dla inwestorów oraz lepsze wykorzystanie dostępnej infrastruktury.\nLink do zapisów: https://ora-warszawa-pl.zoom.us/webinar/register/WN_9G22dWKjTZagj9AftXaPUA#/registration \nUwaga: Ilość miejsc ograniczona.  \nZapraszamy do udziału w szkoleniu wszystkie osoby zainteresowane praktycznymi aspektami nowych zasad przyłączania instalacji do sieci!
URL:https://www.ora-warszawa.com.pl/wydarzenie/szkolenie-spp-wybrane-nowe-zasady-przylaczania-do-sieci-w-swietle-ustawy-z-dnia-13-marca-2026-r-o-zmianie-ustawy-prawo-energetyczne-oraz-niektorych-innych-ustaw/
LOCATION:ORA Warszawa\, Ujazdowskie 49\, Warszawa\, Mazowieckie\, 00-536\, Polska
CATEGORIES:Sekcje Praktyków Prawa
END:VEVENT
END:VCALENDAR