BEGIN:VCALENDAR
VERSION:2.0
PRODID:-//Okręgowa Rada Adwokacka w Warszawie - ECPv5.11.0//NONSGML v1.0//EN
CALSCALE:GREGORIAN
METHOD:PUBLISH
X-WR-CALNAME:Okręgowa Rada Adwokacka w Warszawie
X-ORIGINAL-URL:https://www.ora-warszawa.com.pl
X-WR-CALDESC:Wydarzenia dla Okręgowa Rada Adwokacka w Warszawie
BEGIN:VTIMEZONE
TZID:Europe/Warsaw
BEGIN:DAYLIGHT
TZOFFSETFROM:+0100
TZOFFSETTO:+0200
TZNAME:CEST
DTSTART:20230326T010000
END:DAYLIGHT
BEGIN:STANDARD
TZOFFSETFROM:+0200
TZOFFSETTO:+0100
TZNAME:CET
DTSTART:20231029T010000
END:STANDARD
END:VTIMEZONE
BEGIN:VEVENT
DTSTART;TZID=Europe/Warsaw:20230327T160000
DTEND;TZID=Europe/Warsaw:20230327T193000
DTSTAMP:20260424T102654
CREATED:20230323T105258Z
LAST-MODIFIED:20230323T105258Z
UID:117844-1679932800-1679945400@www.ora-warszawa.com.pl
SUMMARY:Szkolenie SPP: Wprowadzenie do prawa technologii blockchain oraz smart contractów
DESCRIPTION:Sekcja Prawa Autorskiego i Nowych Technologii\, Sekcja Prawa Mediów i Reklamy oraz Sekcja Prawa Gospodarczego i Handlowego przy Okręgowej Radzie Adwokackiej w Warszawie serdecznie zapraszają na wykład pt. Wprowadzenie do prawa technologii blockchain oraz smart contractów. \nPrelegent: dr hab. Konrad Zacharzewski\, Katedra Prawa Cywilnego\, Profesor ALK \nSzkolenie odbędzie się 27 marca 2023 r. (poniedziałek) w godz. 16.00 – 19.30 na platformie ZOOM \nLink do rejestracji na szkolenie: https://ora-warszawa-pl.zoom.us/webinar/register/WN_BJ0eQsxrQxGFeNixbusYNA \nZapraszamy do zapisów! \nUczestnicy otrzymają 4 punkty szkoleniowe za udział w spotkaniu.
URL:https://www.ora-warszawa.com.pl/wydarzenie/szkolenie-spp-wprowadzenie-do-prawa-technologii-blockchain-oraz-smart-contractow/
LOCATION:Platforma ZOOM
CATEGORIES:Sekcje Praktyków Prawa
END:VEVENT
END:VCALENDAR