BEGIN:VCALENDAR
VERSION:2.0
PRODID:-//Okręgowa Rada Adwokacka w Warszawie - ECPv5.11.0//NONSGML v1.0//EN
CALSCALE:GREGORIAN
METHOD:PUBLISH
X-WR-CALNAME:Okręgowa Rada Adwokacka w Warszawie
X-ORIGINAL-URL:https://www.ora-warszawa.com.pl
X-WR-CALDESC:Wydarzenia dla Okręgowa Rada Adwokacka w Warszawie
BEGIN:VTIMEZONE
TZID:Europe/Warsaw
BEGIN:DAYLIGHT
TZOFFSETFROM:+0100
TZOFFSETTO:+0200
TZNAME:CEST
DTSTART:20230326T010000
END:DAYLIGHT
BEGIN:STANDARD
TZOFFSETFROM:+0200
TZOFFSETTO:+0100
TZNAME:CET
DTSTART:20231029T010000
END:STANDARD
END:VTIMEZONE
BEGIN:VEVENT
DTSTART;TZID=Europe/Warsaw:20230927T150000
DTEND;TZID=Europe/Warsaw:20230927T170000
DTSTAMP:20260424T135130
CREATED:20230907T134226Z
LAST-MODIFIED:20230907T134226Z
UID:121362-1695826800-1695834000@www.ora-warszawa.com.pl
SUMMARY:Szkolenie SPP: Wnioski z kontroli sektorowych PUODO dotyczących przetwarzania danych osobowych w aplikacjach mobilnych.
DESCRIPTION:Sekcja Prawa Ochrony Danych Osobowych przy Okręgowej Radzie Adwokackiej w Warszawie serdecznie zaprasza na wykład pt. Wnioski z kontroli sektorowych PUODO dotyczących przetwarzania danych osobowych w aplikacjach mobilnych. \nPrelegent: Damian Bielecki \nSzkolenie odbędzie się 27 września 2023 r. (środa) w godz. 15.00 – 17.00 na platformie ZOOM \nLink do rejestracji na szkolenie: https://ora-warszawa-pl.zoom.us/webinar/register/WN_46USQeLaQySPPBv4t7C5GQ \nZapraszamy do zapisów! \nUczestnicy otrzymają 2 punkty szkoleniowe za udział w spotkaniu.
URL:https://www.ora-warszawa.com.pl/wydarzenie/szkolenie-spp-wnioski-z-kontroli-sektorowych-puodo-dotyczacych-przetwarzania-danych-osobowych-w-aplikacjach-mobilnych/
LOCATION:Platforma ZOOM
CATEGORIES:Sekcje Praktyków Prawa
END:VEVENT
END:VCALENDAR