BEGIN:VCALENDAR
VERSION:2.0
PRODID:-//Okręgowa Rada Adwokacka w Warszawie - ECPv5.11.0//NONSGML v1.0//EN
CALSCALE:GREGORIAN
METHOD:PUBLISH
X-WR-CALNAME:Okręgowa Rada Adwokacka w Warszawie
X-ORIGINAL-URL:https://www.ora-warszawa.com.pl
X-WR-CALDESC:Wydarzenia dla Okręgowa Rada Adwokacka w Warszawie
BEGIN:VTIMEZONE
TZID:Europe/Warsaw
BEGIN:DAYLIGHT
TZOFFSETFROM:+0100
TZOFFSETTO:+0200
TZNAME:CEST
DTSTART:20230326T010000
END:DAYLIGHT
BEGIN:STANDARD
TZOFFSETFROM:+0200
TZOFFSETTO:+0100
TZNAME:CET
DTSTART:20231029T010000
END:STANDARD
END:VTIMEZONE
BEGIN:VEVENT
DTSTART;TZID=Europe/Warsaw:20231218T100000
DTEND;TZID=Europe/Warsaw:20231218T143000
DTSTAMP:20260424T121312
CREATED:20231206T113817Z
LAST-MODIFIED:20231206T113817Z
UID:123859-1702893600-1702909800@www.ora-warszawa.com.pl
SUMMARY:Szkolenie SPP: Styl myślenia\, a dobra komunikacja w biznesie czyli im więcej wiem o sobie tym lepiej komunikuję się z innymi.
DESCRIPTION:Sekcja Arbitrażu i Mediacji przy Okręgowej Radzie Adwokackiej w Warszawie serdecznie zaprasza na kolejny warsztat pt. Styl myślenia\, a dobra komunikacja w biznesie czyli im więcej wiem o sobie tym lepiej komunikuję się z innymi. \nPrelegentka: adw. Małgorzata Chruściak \nWarsztat odbędzie się 18 grudnia 2023 r. (poniedziałek) w godz. 10.00 – 14.30 stacjonarnie\, siedziba Okręgowej Rady Adwokackiej w Warszawie\, sala im. H. Krajewskiego (1 piętro). \nLink do rejestracji na szkolenie: \nZapraszamy do zapisów – liczba miejsc ograniczona!
URL:https://www.ora-warszawa.com.pl/wydarzenie/szkolenie-spp-styl-myslenia-a-dobra-komunikacja-w-biznesie-czyli-im-wiecej-wiem-o-sobie-tym-lepiej-komunikuje-sie-z-innymi/
LOCATION:ORA Warszawa\, Ujazdowskie 49\, Warszawa\, Mazowieckie\, 00-536\, Polska
CATEGORIES:Sekcje Praktyków Prawa
END:VEVENT
END:VCALENDAR