BEGIN:VCALENDAR
VERSION:2.0
PRODID:-//Okręgowa Rada Adwokacka w Warszawie - ECPv5.11.0//NONSGML v1.0//EN
CALSCALE:GREGORIAN
METHOD:PUBLISH
X-WR-CALNAME:Okręgowa Rada Adwokacka w Warszawie
X-ORIGINAL-URL:https://www.ora-warszawa.com.pl
X-WR-CALDESC:Wydarzenia dla Okręgowa Rada Adwokacka w Warszawie
BEGIN:VTIMEZONE
TZID:Europe/Warsaw
BEGIN:DAYLIGHT
TZOFFSETFROM:+0100
TZOFFSETTO:+0200
TZNAME:CEST
DTSTART:20230326T010000
END:DAYLIGHT
BEGIN:STANDARD
TZOFFSETFROM:+0200
TZOFFSETTO:+0100
TZNAME:CET
DTSTART:20231029T010000
END:STANDARD
END:VTIMEZONE
BEGIN:VEVENT
DTSTART;TZID=Europe/Warsaw:20230320T180000
DTEND;TZID=Europe/Warsaw:20230320T200000
DTSTAMP:20260424T135236
CREATED:20230314T115652Z
LAST-MODIFIED:20230314T115652Z
UID:117521-1679335200-1679342400@www.ora-warszawa.com.pl
SUMMARY:Szkolenie SPP: Rozbieżności w orzecznictwie sądów powszechnych w sprawach rodzinnych - wybrane zagadnienia cz. II.
DESCRIPTION:Sekcja Prawa Rodzinnego przy Okręgowej Radzie Adwokackiej w Warszawie serdecznie zaprasza na wykład pt. Rozbieżności w orzecznictwie sądów powszechnych w sprawach rodzinnych – wybrane zagadnienia cz. II. \nPrelegent : SSR Ewa Blachowska \nSzkolenie odbędzie się 20 marca 2023 r. (poniedziałek) w godz. 18.00 – 20.00 na platformie ZOOM \nLink do rejestracji na szkolenie: https://ora-warszawa-pl.zoom.us/webinar/register/WN_TMMFv_0vQ5-pHgt6Bh0yIw \nZapraszamy do zapisów! \nUczestnicy otrzymają 2 punkty szkoleniowe za udział w spotkaniu.
URL:https://www.ora-warszawa.com.pl/wydarzenie/szkolenie-spp-rozbieznosci-w-orzecznictwie-sadow-powszechnych-w-sprawach-rodzinnych-wybrane-zagadnienia-cz-ii/
LOCATION:Platforma ZOOM
CATEGORIES:Sekcje Praktyków Prawa
END:VEVENT
END:VCALENDAR