BEGIN:VCALENDAR
VERSION:2.0
PRODID:-//Okręgowa Rada Adwokacka w Warszawie - ECPv5.11.0//NONSGML v1.0//EN
CALSCALE:GREGORIAN
METHOD:PUBLISH
X-WR-CALNAME:Okręgowa Rada Adwokacka w Warszawie
X-ORIGINAL-URL:https://www.ora-warszawa.com.pl
X-WR-CALDESC:Wydarzenia dla Okręgowa Rada Adwokacka w Warszawie
BEGIN:VTIMEZONE
TZID:Europe/Warsaw
BEGIN:DAYLIGHT
TZOFFSETFROM:+0100
TZOFFSETTO:+0200
TZNAME:CEST
DTSTART:20240331T010000
END:DAYLIGHT
BEGIN:STANDARD
TZOFFSETFROM:+0200
TZOFFSETTO:+0100
TZNAME:CET
DTSTART:20241027T010000
END:STANDARD
END:VTIMEZONE
BEGIN:VEVENT
DTSTART;TZID=Europe/Warsaw:20240619T150000
DTEND;TZID=Europe/Warsaw:20240619T170000
DTSTAMP:20260424T135034
CREATED:20240611T071622Z
LAST-MODIFIED:20240611T071622Z
UID:127487-1718809200-1718816400@www.ora-warszawa.com.pl
SUMMARY:Szkolenie SPP: Rok w chmurze – jak praca zdalna zmieniła Polskę?
DESCRIPTION:Sekcja Prawa Pracy i Ubezpieczeń Społecznych przy Okręgowej Radzie Adwokackiej w Warszawie serdecznie zaprasza na debatę pt.  Rok w chmurze – jak praca zdalna zmieniła Polskę? \nUczestnicy debaty: dr Magdalena Rycak\, dr Magdalena Zwolińska\, dr Artur Rycak. Moderator: adw. Bartosz Wszeborowski \nDebata odbędzie się 19 czerwca 2024 r. (środa) w godz. 15.00 – 17.00 w formie hybrydowej – platforma ZOOM + wydarzenie stacjonarne\, siedziba Okręgowej Rady Adwokackiej w Warszawie\, sala im. H. Krajewskiego (1 piętro). \nLink do rejestracji: https://ora-warszawa-pl.zoom.us/webinar/register/WN_RLE7E83kSEukOcJukPnpXg#/registration \n\nZapraszamy do zapisów!
URL:https://www.ora-warszawa.com.pl/wydarzenie/szkolenie-spp-rok-w-chmurze-jak-praca-zdalna-zmienila-polske/
LOCATION:ORA Warszawa + platforma ZOOM
CATEGORIES:Sekcje Praktyków Prawa
END:VEVENT
END:VCALENDAR