BEGIN:VCALENDAR
VERSION:2.0
PRODID:-//Okręgowa Rada Adwokacka w Warszawie - ECPv5.11.0//NONSGML v1.0//EN
CALSCALE:GREGORIAN
METHOD:PUBLISH
X-WR-CALNAME:Okręgowa Rada Adwokacka w Warszawie
X-ORIGINAL-URL:https://www.ora-warszawa.com.pl
X-WR-CALDESC:Wydarzenia dla Okręgowa Rada Adwokacka w Warszawie
BEGIN:VTIMEZONE
TZID:Europe/Warsaw
BEGIN:DAYLIGHT
TZOFFSETFROM:+0100
TZOFFSETTO:+0200
TZNAME:CEST
DTSTART:20230326T010000
END:DAYLIGHT
BEGIN:STANDARD
TZOFFSETFROM:+0200
TZOFFSETTO:+0100
TZNAME:CET
DTSTART:20231029T010000
END:STANDARD
END:VTIMEZONE
BEGIN:VEVENT
DTSTART;TZID=Europe/Warsaw:20230426T180000
DTEND;TZID=Europe/Warsaw:20230426T200000
DTSTAMP:20260424T103136
CREATED:20230418T143210Z
LAST-MODIFIED:20230424T090400Z
UID:118276-1682532000-1682539200@www.ora-warszawa.com.pl
SUMMARY:Szkolenie SPP: Piecza naprzemienna i jej wpływ na miejsce zamieszkania/pobytu dziecka oraz obowiązek alimentacyjny wobec małoletniego - regulacja prawna i praktyka sądowa
DESCRIPTION:Sekcja Prawa Rodzinnego przy Okręgowej Radzie Adwokackiej w Warszawie serdecznie zaprasza na wykład pt. Piecza naprzemienna i jej wpływ na miejsce zamieszkania/pobytu dziecka oraz obowiązek alimentacyjny wobec małoletniego – regulacja prawna i praktyka sądowa. \nPrelegent : SSR Dorota Szostak \nSzkolenie odbędzie się 26 kwietnia 2023 r. (środa) w godz. 18.00-20.00 w formie hybrydowej\, platforma ZOOM + warsztat stacjonarny\, siedziba Okręgowej Rady Adwokackiej w Warszawie\, sala im. H. Krajewskiego (1 piętro) \nLink do rejestracji w formie online – https://ora-warszawa-pl.zoom.us/webinar/register/WN_TmcIkJ6lSRG40NOAfXNUTw \nZapraszamy do zapisów! Liczba miejsc ograniczona. \nUczestnicy otrzymają 2 punkty szkoleniowe za udział w spotkaniu.
URL:https://www.ora-warszawa.com.pl/wydarzenie/szkolenie-spp-piecza-naprzemienna-i-jej-wplyw-na-miejsce-zamieszkania-pobytu-dziecka-oraz-obowiazek-alimentacyjny-wobec-maloletniego-regulacja-prawna-i-praktyka-sadowa/
LOCATION:ORA Warszawa + platforma ZOOM
CATEGORIES:Sekcje Praktyków Prawa
END:VEVENT
END:VCALENDAR