BEGIN:VCALENDAR
VERSION:2.0
PRODID:-//Okręgowa Rada Adwokacka w Warszawie - ECPv5.11.0//NONSGML v1.0//EN
CALSCALE:GREGORIAN
METHOD:PUBLISH
X-WR-CALNAME:Okręgowa Rada Adwokacka w Warszawie
X-ORIGINAL-URL:https://www.ora-warszawa.com.pl
X-WR-CALDESC:Wydarzenia dla Okręgowa Rada Adwokacka w Warszawie
BEGIN:VTIMEZONE
TZID:Europe/Warsaw
BEGIN:DAYLIGHT
TZOFFSETFROM:+0100
TZOFFSETTO:+0200
TZNAME:CEST
DTSTART:20220327T010000
END:DAYLIGHT
BEGIN:STANDARD
TZOFFSETFROM:+0200
TZOFFSETTO:+0100
TZNAME:CET
DTSTART:20221030T010000
END:STANDARD
END:VTIMEZONE
BEGIN:VEVENT
DTSTART;TZID=Europe/Warsaw:20220519T180000
DTEND;TZID=Europe/Warsaw:20220519T200000
DTSTAMP:20260424T152433
CREATED:20220511T122209Z
LAST-MODIFIED:20220511T123059Z
UID:55485-1652983200-1652990400@www.ora-warszawa.com.pl
SUMMARY:Szkolenie SPP: Omówienie aktualnej sytuacji prawnej osób opuszczających terytorium Ukrainy cz. II
DESCRIPTION:Sekcja Prawa Gospodarczego i Handlowego oraz Sekcja Prawa Pracy i Ubezpieczeń Społecznych przy Okręgowej Radzie Adwokackiej w Warszawie serdecznie zapraszają na wykład pt. Omówienie aktualnej sytuacji prawnej osób opuszczających terytorium Ukrainy cz. II. \nPrelegentka: adw. Agnieszka Iwaćkowska \nSzkolenie odbędzie się 19 maja 2022 r. (czwartek) w godz. 18.00-20.00 na platformie ZOOM \nLink do rejestracji na szkolenie: https://ora-warszawa-pl.zoom.us/webinar/register/WN_n3-nPpoPR3yOxw1UE9QlKw  \nZapraszamy do zapisów!
URL:https://www.ora-warszawa.com.pl/wydarzenie/szkolenie-spp-omowienie-aktualnej-sytuacji-prawnej-osob-opuszczajacych-terytorium-ukrainy-cz-ii/
LOCATION:Platforma ZOOM
CATEGORIES:Sekcje Praktyków Prawa
END:VEVENT
END:VCALENDAR