BEGIN:VCALENDAR
VERSION:2.0
PRODID:-//Okręgowa Rada Adwokacka w Warszawie - ECPv5.11.0//NONSGML v1.0//EN
CALSCALE:GREGORIAN
METHOD:PUBLISH
X-WR-CALNAME:Okręgowa Rada Adwokacka w Warszawie
X-ORIGINAL-URL:https://www.ora-warszawa.com.pl
X-WR-CALDESC:Wydarzenia dla Okręgowa Rada Adwokacka w Warszawie
BEGIN:VTIMEZONE
TZID:Europe/Warsaw
BEGIN:DAYLIGHT
TZOFFSETFROM:+0100
TZOFFSETTO:+0200
TZNAME:CEST
DTSTART:20230326T010000
END:DAYLIGHT
BEGIN:STANDARD
TZOFFSETFROM:+0200
TZOFFSETTO:+0100
TZNAME:CET
DTSTART:20231029T010000
END:STANDARD
END:VTIMEZONE
BEGIN:VEVENT
DTSTART;TZID=Europe/Warsaw:20230523T160000
DTEND;TZID=Europe/Warsaw:20230523T170000
DTSTAMP:20260424T154357
CREATED:20230518T095915Z
LAST-MODIFIED:20230518T102505Z
UID:119532-1684857600-1684861200@www.ora-warszawa.com.pl
SUMMARY:Szkolenie SPP: Marka osobista prawnika i prawniczki.
DESCRIPTION:Sekcja Prawa Własności Przemysłowej przy Okręgowej Radzie Adwokackiej w Warszawie serdecznie zaprasza na kolejne szkolenie z cyklu rozwoju kompetencji pt. Marka osobista prawnika i prawniczki. \nPrelegentka: Kamila Kurkowska \nSzkolenie odbędzie się 23 maja 2023 r. (wtorek) w godz. 16.00 – 17.00 na platformie ZOOM \nLink do rejestracji na szkolenie: https://ora-warszawa-pl.zoom.us/webinar/register/WN_k7zfUTMrToKYBD94Ckd__A \nZapraszamy do zapisów! \nUczestnicy otrzymają 1 punkt szkoleniowy za udział w spotkaniu.
URL:https://www.ora-warszawa.com.pl/wydarzenie/szkolenie-spp-marka-osobista-prawnika-i-prawniczki/
LOCATION:Platforma ZOOM
CATEGORIES:Sekcje Praktyków Prawa
END:VEVENT
END:VCALENDAR