BEGIN:VCALENDAR
VERSION:2.0
PRODID:-//Okręgowa Rada Adwokacka w Warszawie - ECPv5.11.0//NONSGML v1.0//EN
CALSCALE:GREGORIAN
METHOD:PUBLISH
X-WR-CALNAME:Okręgowa Rada Adwokacka w Warszawie
X-ORIGINAL-URL:https://www.ora-warszawa.com.pl
X-WR-CALDESC:Wydarzenia dla Okręgowa Rada Adwokacka w Warszawie
BEGIN:VTIMEZONE
TZID:Europe/Warsaw
BEGIN:DAYLIGHT
TZOFFSETFROM:+0100
TZOFFSETTO:+0200
TZNAME:CEST
DTSTART:20220327T010000
END:DAYLIGHT
BEGIN:STANDARD
TZOFFSETFROM:+0200
TZOFFSETTO:+0100
TZNAME:CET
DTSTART:20221030T010000
END:STANDARD
END:VTIMEZONE
BEGIN:VEVENT
DTSTART;TZID=Europe/Warsaw:20221212T160000
DTEND;TZID=Europe/Warsaw:20221212T173000
DTSTAMP:20260424T102653
CREATED:20221209T123138Z
LAST-MODIFIED:20221209T123138Z
UID:69259-1670860800-1670866200@www.ora-warszawa.com.pl
SUMMARY:Szkolenie SPP: Legal Design - 12.12.2022 r.
DESCRIPTION:Sekcja Prawa Autorskiego i Nowych Technologii przy Okręgowej Radzie Adwokackiej w Warszawie serdecznie zaprasza na wykład pt. Legal Design. \nPrelegent : Kamila Kurkowska \nSzkolenie odbędzie się 12 grudnia 2022 r. (poniedziałek) w godz. 16.00 – 17.30 na platformie ZOOM \nLink do rejestracji na szkolenie: https://ora-warszawa-pl.zoom.us/webinar/register/WN_W2uhlyVARX-LzHM-ADa4SA \nZapraszamy do zapisów! \nUczestnicy otrzymają 2 punkty szkoleniowe za udział w spotkaniu.
URL:https://www.ora-warszawa.com.pl/wydarzenie/szkolenie-spp-legal-design-12-12-2022-r/
LOCATION:Platforma ZOOM
CATEGORIES:Sekcje Praktyków Prawa
END:VEVENT
END:VCALENDAR