BEGIN:VCALENDAR
VERSION:2.0
PRODID:-//Okręgowa Rada Adwokacka w Warszawie - ECPv5.11.0//NONSGML v1.0//EN
CALSCALE:GREGORIAN
METHOD:PUBLISH
X-WR-CALNAME:Okręgowa Rada Adwokacka w Warszawie
X-ORIGINAL-URL:https://www.ora-warszawa.com.pl
X-WR-CALDESC:Wydarzenia dla Okręgowa Rada Adwokacka w Warszawie
BEGIN:VTIMEZONE
TZID:Europe/Warsaw
BEGIN:DAYLIGHT
TZOFFSETFROM:+0100
TZOFFSETTO:+0200
TZNAME:CEST
DTSTART:20260329T010000
END:DAYLIGHT
BEGIN:STANDARD
TZOFFSETFROM:+0200
TZOFFSETTO:+0100
TZNAME:CET
DTSTART:20261025T010000
END:STANDARD
END:VTIMEZONE
BEGIN:VEVENT
DTSTART;TZID=Europe/Warsaw:20260312T180000
DTEND;TZID=Europe/Warsaw:20260312T200000
DTSTAMP:20260424T165810
CREATED:20260305T095144Z
LAST-MODIFIED:20260305T101103Z
UID:142947-1773338400-1773345600@www.ora-warszawa.com.pl
SUMMARY:Szkolenie: Profesjonalna i bezpieczna skrzynka e-mail adwokata
DESCRIPTION:Komisja ds. AI i Nowych Technologii oraz Komisja ds. Informatyzacji i Cyberbezpieczeństwa zapraszają na praktyczne szkolenie poświęcone standardom komunikacji elektronicznej w zawodzie adwokata\, które odbędzie się w czwartek\, 12 marca br. o godz. 18.00 w formie hybrydowej: \n\nstacjonarnie: siedziba ORA w Warszawie\, sala im. adw. H. Krajewskiego\non-line: na platformie Zoom: kliknij tutaj\n\nSpotkanie poprowadzi adw. Bartłomiej Trętowski. \n Program szkolenia:  \n\nWizerunek: Przejście z darmowych domen (Gmail/Onet) na profesjonalną domenę kancelarii\nBezpieczeństwo: Konfiguracja 2FA (klucze U2F\, aplikacje) oraz szyfrowanie wiadomości\nZgodność: Dostosowanie poczty do wymogów RODO i tajemnicy zawodowej\nTechnologia: Wybór bezpiecznego dostawcy i higiena cyfrowa załączników\n\nSerdecznie zapraszamy!
URL:https://www.ora-warszawa.com.pl/wydarzenie/szkolenie-profesjonalna-i-bezpieczna-skrzynka-e-mail-adwokata/
LOCATION:ORA Warszawa + platforma ZOOM
CATEGORIES:ORA Warszawa
END:VEVENT
END:VCALENDAR