BEGIN:VCALENDAR
VERSION:2.0
PRODID:-//Okręgowa Rada Adwokacka w Warszawie - ECPv5.11.0//NONSGML v1.0//EN
CALSCALE:GREGORIAN
METHOD:PUBLISH
X-WR-CALNAME:Okręgowa Rada Adwokacka w Warszawie
X-ORIGINAL-URL:https://www.ora-warszawa.com.pl
X-WR-CALDESC:Wydarzenia dla Okręgowa Rada Adwokacka w Warszawie
BEGIN:VTIMEZONE
TZID:Europe/Warsaw
BEGIN:DAYLIGHT
TZOFFSETFROM:+0100
TZOFFSETTO:+0200
TZNAME:CEST
DTSTART:20230326T010000
END:DAYLIGHT
BEGIN:STANDARD
TZOFFSETFROM:+0200
TZOFFSETTO:+0100
TZNAME:CET
DTSTART:20231029T010000
END:STANDARD
END:VTIMEZONE
BEGIN:VEVENT
DTSTART;TZID=Europe/Warsaw:20230529T080000
DTEND;TZID=Europe/Warsaw:20230529T170000
DTSTAMP:20260424T102828
CREATED:20230518T080006Z
LAST-MODIFIED:20230518T080229Z
UID:119503-1685347200-1685379600@www.ora-warszawa.com.pl
SUMMARY:Szkolenie online: Jak przygotować strony do udziału w postępowaniu mediacyjnym?
DESCRIPTION:Fundacja Adwokatury zaprasza adwokatów\, radców prawnych oraz praktykujących mediatorów do skorzystania z oferty szkoleń z zakresu mediacji w wersji stacjonarnej i online. \n \n\nSzkolenia prowadzi dr Marta Janina Kuklo\, doświadczony mediator\, nauczyciel akademicki z doświadczeniem pracy w Polsce i USA. \nUdział w szkoleniu jest odpłatny.\nLiczba miejsc jest ograniczona. Decyduje kolejność zgłoszeń.\nOrganizatorzy zastrzegają prawo odwołania kursu w razie nie zgłoszenia się odpowiedniej liczby chętnych.\n\n„Jak przygotować strony do udziału w postępowaniu mediacyjnym?” \nSzkolenia prowadzone online (500 zł brutto): \n29 maja 2023 r.  \n26 czerwca 2023 r. \n22 lipca 2023 r. \n przejdź do formularza zgłoszeń: https://forms.gle/mLCYNhpw5yXXUgem9 \nSzkolenie adresowane jest przede wszystkim do adwokatów i radców prawnych\,ale także praktykujących mediatorów i ma na celu podniesienie ich kwalifikacji w zakresie przygotowania stron do wzięcia udziału w postępowaniach mediacyjnych. W związku z tym podczas szkolenia zostanie omówiona problematyka współpracy w ramach tzw. „trójkąta mediacyjnego” tj. pomiędzy stronami\, pełnomocnikami i mediatorem. Uczestnicy zostaną zapoznani z przepisami szczególnymi\, które wskazują na konieczność przygotowania się określonej grupy podmiotów do udziału w mediacji. Ponadto w ramach szkolenia\, zostaną omówione i przećwiczone strategie przygotowania się do mediacji oraz konkretne etapy\, na których należy tego dokonać. Co więcej\, prowadzący szkolenie zaprezentuje praktyczne rozwiązania w pracy ze stronami\, w których strony przyszły nieprzygotowane do udziału w postępowaniu mediacyjnym.\nSzkolenie zostanie przeprowadzone aktywnymi metodami nauczania m.in. z wykorzystaniem symulacji.    \nDzięki udziałowi w ww. wydarzeniu: \n– pogłębisz swoją wiedzę w zakresie współpracy w ramach tzw. „trójkąta mediacyjnego” (mediator – strony postepowania – pełnomocnicy stron)\, \n– zdobędziesz umiejętności praktyczne w zakresie wypracowania konkretnych strategii przygotowania określonych grup podmiotów do mediacji\, \n– sprawdzisz jakie konkretne korzyści niosą zaproponowane strategie w praktyce\,\nw ramach przeprowadzonych symulacji\, \n– dowiesz się jakie umiejętności dalej rozwijać\, aby efektywnie wspierać klientów\nw procesie mediacji lub efektywnie prowadzić postępowania mediacyjne.    \nOrganizator zastrzega sobie możliwość odwołania każdorazowo szkoleń w przypadku niezebrania się pełnej grupy uczestników. \nPodczas zapisów wymagane jest wskazanie terminu szkolenia oraz przesłanie potwierdzenia wpłaty na adres mailowy Fundacji. \nInformacje o wykładowcy: \ndr Marta Janina Kuklo \ndoktor nauk prawnych\, adiunkt \nKatedra Finansów Publicznych i Prawa Finansowego\, Wydział Prawa Uniwersytetu w Białymstoku \n– od 18 lat nauczyciel akademicki wykładający prawo w języku polskim i angielskim\,  \nzarówno dla studentów z Polski\, Europy jak i z USA  \n– przez 4 lata Koordynator Centrum Mediacji przy ANSL w Łomży oraz Rzecznik Dyscyplinarny ds. Nauczycieli Akademickich przy ANSL w Łomży  \n– przez 14 lat Koordynator/zastępca Koordynatora Studenckiej Poradni Prawnej oraz Centrum Praktyk Sądowych przy UwB \n– przez 13 lat Redaktor Naczelna/Zastępca Redaktora Naczelnego (obecnie członek Kolegium Redakcyjnego) ogólnopolskiego czasopisma naukowego „Klinika”  \ni stały współpracownik ogólnopolskiego czasopisma naukowego „Edukacja Prawnicza” \n– współtwórca Centrum Mediacji przy IPH w Białymstoku\,  \nWschodniego Sądu Arbitrażowego przy IPH w Białymstoku\,  \nCentrum Mediacji przy ANSL w Łomży\, Centrum Praktyk Sądowych na WP UwB\,  \nczy Kliniki Mediacji w Studenckiej Poradni Prawnej – Pracowni WP UwB    \n– stypendystka Fulbrighta w kategorii Fulbright Senior Award (2017) oraz Fundacji Kościuszkowskiej i Public Interest Law Initiative Scholarship (2006-207) prowadząca badania naukowa w USA \n– badaczka koncentrująca wskazaną działalność na polubownych metodach rozwiązywania sporów  \n(przede wszystkim różnych aspektach mediacji)  \n– autorka i współautorka ponad 90-ciu publikacji o charakterze naukowym w dziedzinie prawa \n– prelegentka i aktywna uczestniczka około 40-tu międzynarodowych i ogólnopolskich konferencji naukowych \n– certyfikowany trener (prawie 1000 godzin szkoleniowych) \n– certyfikowany mediator\, a także stały mediator sądowy z doświadczeniem międzynarodowym  \n(ponad 400 przeprowadzonych mediacji) \n– arbiter Wileńskiego Sądu Arbitrażowego \n– specjalistka w zakresie ADR\, klinicznego nauczania prawa\, metodologii nauczania prawa\,  \nprawa handlowego\, gospodarczego i cywilnego
URL:https://www.ora-warszawa.com.pl/wydarzenie/szkolenie-online-jak-przygotowac-strony-do-udzialu-w-postepowaniu-mediacyjnym/
CATEGORIES:Wydarzenia zewnętrzne
END:VEVENT
END:VCALENDAR