BEGIN:VCALENDAR
VERSION:2.0
PRODID:-//Okręgowa Rada Adwokacka w Warszawie - ECPv5.11.0//NONSGML v1.0//EN
CALSCALE:GREGORIAN
METHOD:PUBLISH
X-WR-CALNAME:Okręgowa Rada Adwokacka w Warszawie
X-ORIGINAL-URL:https://www.ora-warszawa.com.pl
X-WR-CALDESC:Wydarzenia dla Okręgowa Rada Adwokacka w Warszawie
BEGIN:VTIMEZONE
TZID:Europe/Warsaw
BEGIN:DAYLIGHT
TZOFFSETFROM:+0100
TZOFFSETTO:+0200
TZNAME:CEST
DTSTART:20260329T010000
END:DAYLIGHT
BEGIN:STANDARD
TZOFFSETFROM:+0200
TZOFFSETTO:+0100
TZNAME:CET
DTSTART:20261025T010000
END:STANDARD
END:VTIMEZONE
BEGIN:VEVENT
DTSTART;TZID=Europe/Warsaw:20261020T180000
DTEND;TZID=Europe/Warsaw:20261020T193000
DTSTAMP:20260424T121152
CREATED:20260327T123605Z
LAST-MODIFIED:20260327T123605Z
UID:143609-1792519200-1792524600@www.ora-warszawa.com.pl
SUMMARY:Szkolenie KDZ: Umowa sponsora badania klinicznego z badaczem i ośrodkiem
DESCRIPTION:Zachęcamy do wzięcia udziału w szkoleniu KDZ pt. „Umowa sponsora badania klinicznego z badaczem i ośrodkiem”\, które poprowadzi adw. dr Wiktor Krzymowski. \nSzkolenie odbędzie się w dniu 20 października 2026 r. w godz. od 18.00 do 19.30 (konspekt wykładu). \nLink do rejestracji: https://ora-warszawa-pl.zoom.us/webinar/register/WN_B6dMrvqiSiqSE-yWUAhsJQ
URL:https://www.ora-warszawa.com.pl/wydarzenie/szkolenie-kdz-umowa-sponsora-badania-klinicznego-z-badaczem-i-osrodkiem/
LOCATION:Platforma ZOOM
CATEGORIES:Komisja Doskonalenia Zawodowego
END:VEVENT
END:VCALENDAR