BEGIN:VCALENDAR
VERSION:2.0
PRODID:-//Okręgowa Rada Adwokacka w Warszawie - ECPv5.11.0//NONSGML v1.0//EN
CALSCALE:GREGORIAN
METHOD:PUBLISH
X-WR-CALNAME:Okręgowa Rada Adwokacka w Warszawie
X-ORIGINAL-URL:https://www.ora-warszawa.com.pl
X-WR-CALDESC:Wydarzenia dla Okręgowa Rada Adwokacka w Warszawie
BEGIN:VTIMEZONE
TZID:Europe/Warsaw
BEGIN:DAYLIGHT
TZOFFSETFROM:+0100
TZOFFSETTO:+0200
TZNAME:CEST
DTSTART:20230326T010000
END:DAYLIGHT
BEGIN:STANDARD
TZOFFSETFROM:+0200
TZOFFSETTO:+0100
TZNAME:CET
DTSTART:20231029T010000
END:STANDARD
END:VTIMEZONE
BEGIN:VEVENT
DTSTART;TZID=Europe/Warsaw:20231009T180000
DTEND;TZID=Europe/Warsaw:20231009T193000
DTSTAMP:20260424T102624
CREATED:20230920T120047Z
LAST-MODIFIED:20230920T120047Z
UID:121582-1696874400-1696879800@www.ora-warszawa.com.pl
SUMMARY:Szkolenie KDZ: Rejestr akcjonariuszy
DESCRIPTION:Zachęcamy do wzięcia udziału w szkoleniu KDZ pt. „Rejestr akcjonariuszy”\, które poprowadzi adw. Mariusz Kociszewski. \nSzkolenie odbędzie się w dniu 9 października 2023 r. w godz. od 18.00 do 19.30. \nLink do rejestracji: https://ora-warszawa-pl.zoom.us/webinar/register/WN_USozzJmlTOqTx57LsBuc3Q \nAdwokaci uczestniczący w szkoleniu otrzymają po 2 punkty szkoleniowe.
URL:https://www.ora-warszawa.com.pl/wydarzenie/szkolenie-kdz-rejestr-akcjonariuszy/
LOCATION:Platforma ZOOM
CATEGORIES:Komisja Doskonalenia Zawodowego
END:VEVENT
END:VCALENDAR