BEGIN:VCALENDAR
VERSION:2.0
PRODID:-//Okręgowa Rada Adwokacka w Warszawie - ECPv5.11.0//NONSGML v1.0//EN
CALSCALE:GREGORIAN
METHOD:PUBLISH
X-WR-CALNAME:Okręgowa Rada Adwokacka w Warszawie
X-ORIGINAL-URL:https://www.ora-warszawa.com.pl
X-WR-CALDESC:Wydarzenia dla Okręgowa Rada Adwokacka w Warszawie
BEGIN:VTIMEZONE
TZID:Europe/Warsaw
BEGIN:DAYLIGHT
TZOFFSETFROM:+0100
TZOFFSETTO:+0200
TZNAME:CEST
DTSTART:20260329T010000
END:DAYLIGHT
BEGIN:STANDARD
TZOFFSETFROM:+0200
TZOFFSETTO:+0100
TZNAME:CET
DTSTART:20261025T010000
END:STANDARD
END:VTIMEZONE
BEGIN:VEVENT
DTSTART;TZID=Europe/Warsaw:20260224T170000
DTEND;TZID=Europe/Warsaw:20260224T183000
DTSTAMP:20260424T165806
CREATED:20260219T090554Z
LAST-MODIFIED:20260219T091101Z
UID:142700-1771952400-1771957800@www.ora-warszawa.com.pl
SUMMARY:SZKOLENIE KDZ PRZY NRA: Przychody z działalności prawniczej – rozliczenie PIT i VAT
DESCRIPTION:Komisja Doskonalenia Zawodowego przy Naczelnej Radzie Adwokackiej zaprasza adwokatów i aplikantów adwokackich na bezpłatny dwuczęściowy wykład na temat „Przychody z działalności prawniczej – rozliczenie PIT i VAT”\, który odbędzie się we wtorek\, 24 lutego 2026 r. w godz. 17.00-18.30. \nCelem szkolenia jest zaprezentowanie problemów z zakresu prawa podatkowego w kontekście prowadzenia kancelarii adwokackiej. Podczas szkolenia poruszone zostaną zagadnienia dotyczące przychodów opodatkowanych w ramach prowadzonej działalności wraz ze zwróceniem uwagi na występujące w tym zakresie wyjątki. Zostanie też dokonana analiza wpływu przychodów uzyskiwanych „prywatnie” (np. prywatny najem nieruchomości\, odpłatne\nprywatne zbycie nieruchomości) na rozliczenia działalności. Szkolący wyjaśni także wątpliwości co do tego\, czy każdy obrót podlega opodatkowaniu podatkiem od towarów i usług\, w tym np. przychód z nieodpłatnych punktów pomocy prawnej. W trakcie szkolenia zaprezentowana będzie także optymalna forma opodatkowania w podatku dochodowym. \nProwadzący: \n\ndoradca podatkowy Grzegorz Gębka – prawnik; wykładowca m.in. dla prawniczych samorządów zawodowych adwokatów\, komorników\, notariuszy i radców prawnych; autor artykułów i książek z zakresu prawa podatkowego i ubezpieczeń społecznych do wydawnictw specjalistycznych; ekspert dziennika Rzeczpospolita (członek Panelu Prawników); założyciel Księgowość dla prawnika i właściciel biur rachunkowych.\n\nSzkolenie odbędzie się we wtorek\, 24 lutego 2026 r. w godz. 17.00-18.30. \nWykład będzie prowadzony na żywo na platformie ClickMeeting\, a ponadto zostanie nagrany i zamieszczony na stronie samorządu adwokackiego https://palestra.pl/pl/e-palestra \nZapisy do dnia 23 lutego 2026 r.  \nRejestracja: https://nra.e-soa.pl/szkolenia/addZgloszeniaBPClient/184/184 \nW celu rejestracji prosimy o wybranie przycisku „Jestem członkiem adwokatury”\, a następnie zalogowanie się do Panelu Adwokata. W przypadku braku konta w Panelu prosimy użyć funkcji „Pierwsze logowanie” dostępnej na dole wyświetlonej strony. Link do spotkania zostanie przesłany osobom bezpośrednio po rejestracji. \nLiczba miejsc ograniczona\, decyduje kolejność zgłoszeń. \nSerdecznie zapraszamy!
URL:https://www.ora-warszawa.com.pl/wydarzenie/szkolenie-kdz-przy-nra-przychody-z-dzialalnosci-prawniczej-rozliczenie-pit-i-vat/
LOCATION:Platforma ClickMeeting
CATEGORIES:Wydarzenia zewnętrzne
END:VEVENT
END:VCALENDAR