BEGIN:VCALENDAR
VERSION:2.0
PRODID:-//Okręgowa Rada Adwokacka w Warszawie - ECPv5.11.0//NONSGML v1.0//EN
CALSCALE:GREGORIAN
METHOD:PUBLISH
X-WR-CALNAME:Okręgowa Rada Adwokacka w Warszawie
X-ORIGINAL-URL:https://www.ora-warszawa.com.pl
X-WR-CALDESC:Wydarzenia dla Okręgowa Rada Adwokacka w Warszawie
BEGIN:VTIMEZONE
TZID:Europe/Warsaw
BEGIN:DAYLIGHT
TZOFFSETFROM:+0100
TZOFFSETTO:+0200
TZNAME:CEST
DTSTART:20220327T010000
END:DAYLIGHT
BEGIN:STANDARD
TZOFFSETFROM:+0200
TZOFFSETTO:+0100
TZNAME:CET
DTSTART:20221030T010000
END:STANDARD
END:VTIMEZONE
BEGIN:VEVENT
DTSTART;TZID=Europe/Warsaw:20221213T180000
DTEND;TZID=Europe/Warsaw:20221213T193000
DTSTAMP:20260424T135137
CREATED:20220924T175320Z
LAST-MODIFIED:20220924T175320Z
UID:67619-1670954400-1670959800@www.ora-warszawa.com.pl
SUMMARY:Szkolenie KDZ: Projektowane zmiany postępowania cywilnego - rządowy projekt nowelizacji KPC (RCL-UD156) cz. 2
DESCRIPTION:Zachęcamy do wzięcia udziału w szkoleniu KDZ pt. „Projektowane zmiany postępowania cywilnego – rządowy projekt nowelizacji KPC (RCL-UD156) cz. 2”\, które poprowadzi SSO Grzegorz Karaś. \nSzkolenie odbędzie się w dniu 13 grudnia 2022 r. w godz. od 18.00 do 19.30. \nLink do rejestracji: https://ora-warszawa-pl.zoom.us/webinar/register/WN_uGkZsfMtQIiTChd_9p1seQ \nAdwokaci uczestniczący w szkoleniu otrzymają po 2 punkty szkoleniowe.
URL:https://www.ora-warszawa.com.pl/wydarzenie/szkolenie-kdz-projektowane-zmiany-postepowania-cywilnego-rzadowy-projekt-nowelizacji-kpc-rcl-ud156-cz-2/
LOCATION:Platforma ZOOM
CATEGORIES:Komisja Doskonalenia Zawodowego
END:VEVENT
END:VCALENDAR