BEGIN:VCALENDAR
VERSION:2.0
PRODID:-//Okręgowa Rada Adwokacka w Warszawie - ECPv5.11.0//NONSGML v1.0//EN
CALSCALE:GREGORIAN
METHOD:PUBLISH
X-WR-CALNAME:Okręgowa Rada Adwokacka w Warszawie
X-ORIGINAL-URL:https://www.ora-warszawa.com.pl
X-WR-CALDESC:Wydarzenia dla Okręgowa Rada Adwokacka w Warszawie
BEGIN:VTIMEZONE
TZID:Europe/Warsaw
BEGIN:DAYLIGHT
TZOFFSETFROM:+0100
TZOFFSETTO:+0200
TZNAME:CEST
DTSTART:20260329T010000
END:DAYLIGHT
BEGIN:STANDARD
TZOFFSETFROM:+0200
TZOFFSETTO:+0100
TZNAME:CET
DTSTART:20261025T010000
END:STANDARD
END:VTIMEZONE
BEGIN:VEVENT
DTSTART;TZID=Europe/Warsaw:20260505T180000
DTEND;TZID=Europe/Warsaw:20260505T193000
DTSTAMP:20260424T120214
CREATED:20260325T115941Z
LAST-MODIFIED:20260325T115941Z
UID:143543-1778004000-1778009400@www.ora-warszawa.com.pl
SUMMARY:Szkolenie KDZ: Postępowanie dyscyplinarne - szczegółowe uregulowania i praktyka
DESCRIPTION:Zachęcamy do wzięcia udziału w szkoleniu KDZ pt. „Postępowanie dyscyplinarne – szczegółowe uregulowania i praktyka”\, które poprowadzi adw. Artur Bednarski. \nSzkolenie odbędzie się w dniu 5 maja 2026 r. w godz. od 18.00 do 19.30. \nLink do rejestracji: https://ora-warszawa-pl.zoom.us/webinar/register/WN_R5OqTxJER8-M3tM1Kzsx2Q
URL:https://www.ora-warszawa.com.pl/wydarzenie/szkolenie-kdz-postepowanie-dyscyplinarne-szczegolowe-uregulowania-i-praktyka/
LOCATION:Platforma ZOOM
CATEGORIES:Komisja Doskonalenia Zawodowego
END:VEVENT
END:VCALENDAR