BEGIN:VCALENDAR
VERSION:2.0
PRODID:-//Okręgowa Rada Adwokacka w Warszawie - ECPv5.11.0//NONSGML v1.0//EN
CALSCALE:GREGORIAN
METHOD:PUBLISH
X-WR-CALNAME:Okręgowa Rada Adwokacka w Warszawie
X-ORIGINAL-URL:https://www.ora-warszawa.com.pl
X-WR-CALDESC:Wydarzenia dla Okręgowa Rada Adwokacka w Warszawie
BEGIN:VTIMEZONE
TZID:Europe/Warsaw
BEGIN:DAYLIGHT
TZOFFSETFROM:+0100
TZOFFSETTO:+0200
TZNAME:CEST
DTSTART:20230326T010000
END:DAYLIGHT
BEGIN:STANDARD
TZOFFSETFROM:+0200
TZOFFSETTO:+0100
TZNAME:CET
DTSTART:20231029T010000
END:STANDARD
END:VTIMEZONE
BEGIN:VEVENT
DTSTART;TZID=Europe/Warsaw:20230920T100000
DTEND;TZID=Europe/Warsaw:20230920T150000
DTSTAMP:20260424T154707
CREATED:20230804T141018Z
LAST-MODIFIED:20230804T141018Z
UID:121054-1695204000-1695222000@www.ora-warszawa.com.pl
SUMMARY:Szkolenie KDZ oraz Beck Akademii: Zarządzanie sytuacją kryzysową przedsiębiorstwa w praktyce
DESCRIPTION:Komisja Doskonalenia Zawodowego przy Okręgowej Radzie Adwokackiej w Warszawie wraz z Beck Akademią zaprasza na szkolenie dla adwokatów i aplikantów adwokackich: „Zarządzanie sytuacją kryzysową przedsiębiorstwa w praktyce” \nPrelegenci: Michał Buna\, Piotr Glonek\, Mariusz Kolwas\, Piotr Korzeniowski\, Kinga Tabor-Kłopotowska \nTermin: 20 września 2023 r.\, godz. 10.00-15.00 \nCena z rabatem 15%*: 586\,50 zł z VAT \n*cena z wykorzystaniem aktualnego kodu rabatowego \nSzczegóły i rejestracja: https://akademia.beck.pl/1269-zarzadzanie-sytuacja-kryzysowa-przedsiebiorstwa-w-praktyce-?utm_source=ora-warszawa.com.pl&utm_medium=polecamy \nWykład będzie prowadzony na żywo za pośrednictwem platformy szkoleniowej (ClickMeeting albo Microsoft Teams). \nZa udział w szkoleniu można uzyskać punkty szkoleniowe w ramach doskonalenia zawodowego. \nSerdecznie zapraszamy!
URL:https://www.ora-warszawa.com.pl/wydarzenie/szkolenie-kdz-oraz-beck-akademii-zarzadzanie-sytuacja-kryzysowa-przedsiebiorstwa-w-praktyce/
CATEGORIES:Wydarzenia zewnętrzne
END:VEVENT
END:VCALENDAR