BEGIN:VCALENDAR
VERSION:2.0
PRODID:-//Okręgowa Rada Adwokacka w Warszawie - ECPv5.11.0//NONSGML v1.0//EN
CALSCALE:GREGORIAN
METHOD:PUBLISH
X-WR-CALNAME:Okręgowa Rada Adwokacka w Warszawie
X-ORIGINAL-URL:https://www.ora-warszawa.com.pl
X-WR-CALDESC:Wydarzenia dla Okręgowa Rada Adwokacka w Warszawie
BEGIN:VTIMEZONE
TZID:Europe/Warsaw
BEGIN:DAYLIGHT
TZOFFSETFROM:+0100
TZOFFSETTO:+0200
TZNAME:CEST
DTSTART:20230326T010000
END:DAYLIGHT
BEGIN:STANDARD
TZOFFSETFROM:+0200
TZOFFSETTO:+0100
TZNAME:CET
DTSTART:20231029T010000
END:STANDARD
END:VTIMEZONE
BEGIN:VEVENT
DTSTART;TZID=Europe/Warsaw:20231204T140000
DTEND;TZID=Europe/Warsaw:20231204T190000
DTSTAMP:20260424T154656
CREATED:20231102T114424Z
LAST-MODIFIED:20231102T114424Z
UID:122817-1701698400-1701716400@www.ora-warszawa.com.pl
SUMMARY:Szkolenie KDZ oraz Beck Akademii: Postępowanie cywilne po zmianach z 9.03.2023 r. i 7.07.2023 r.
DESCRIPTION:Komisja Doskonalenia Zawodowego przy Okręgowej Radzie Adwokackiej w Warszawie wraz z Beck Akademią zaprasza na szkolenie dla adwokatów i aplikantów adwokackich: „Postępowanie cywilne po zmianach z 9.03.2023 r. i 7.07.2023 r.” \nPrelegenci: SSO Grzegorz Karaś \nTermin: 4 grudnia 2023 r.\, godz. 14.00-19.00 \nCena z rabatem 15%*: 637\,5 zł z VAT \n*cena z wykorzystaniem aktualnego kodu rabatowego \nSzczegóły i rejestracja: https://akademia.beck.pl/1402-postepowanie-cywilne-po-zmianach-z-9-03-2023-r-i-7-07-2023-r-?utm_source=ora-warszawa.com.pl&utm_medium=polecamy \nWykład będzie prowadzony na żywo za pośrednictwem platformy szkoleniowej\n(ClickMeeting albo Microsoft Teams).
URL:https://www.ora-warszawa.com.pl/wydarzenie/szkolenie-kdz-oraz-beck-akademii-postepowanie-cywilne-po-zmianach-z-9-03-2023-r-i-7-07-2023-r/
CATEGORIES:Wydarzenia zewnętrzne
END:VEVENT
END:VCALENDAR