BEGIN:VCALENDAR
VERSION:2.0
PRODID:-//Okręgowa Rada Adwokacka w Warszawie - ECPv5.11.0//NONSGML v1.0//EN
CALSCALE:GREGORIAN
METHOD:PUBLISH
X-WR-CALNAME:Okręgowa Rada Adwokacka w Warszawie
X-ORIGINAL-URL:https://www.ora-warszawa.com.pl
X-WR-CALDESC:Wydarzenia dla Okręgowa Rada Adwokacka w Warszawie
BEGIN:VTIMEZONE
TZID:Europe/Warsaw
BEGIN:DAYLIGHT
TZOFFSETFROM:+0100
TZOFFSETTO:+0200
TZNAME:CEST
DTSTART:20250330T010000
END:DAYLIGHT
BEGIN:STANDARD
TZOFFSETFROM:+0200
TZOFFSETTO:+0100
TZNAME:CET
DTSTART:20251026T010000
END:STANDARD
END:VTIMEZONE
BEGIN:VEVENT
DTSTART;TZID=Europe/Warsaw:20250120T180000
DTEND;TZID=Europe/Warsaw:20250120T193000
DTSTAMP:20260424T151241
CREATED:20241217T121655Z
LAST-MODIFIED:20241217T121655Z
UID:131547-1737396000-1737401400@www.ora-warszawa.com.pl
SUMMARY:Szkolenie KDZ: Naruszenia ochrony danych osobowych w praktyce
DESCRIPTION:Zachęcamy do wzięcia udziału w szkoleniu KDZ pt. „Naruszenie ochrony danych osobowych w praktyce”\, które poprowadzi adw. Henryk Hoser. \nSzkolenie odbędzie się w dniu 20 stycznia 2025 r. w godz. od 18.00 do 19.30. \nLink do rejestracji: https://ora-warszawa-pl.zoom.us/webinar/register/WN_4SzV-kQBS_qngqBxNnVYAg
URL:https://www.ora-warszawa.com.pl/wydarzenie/szkolenie-kdz-naruszenia-ochrony-danych-osobowych-w-praktyce/
LOCATION:Platforma ZOOM
CATEGORIES:Komisja Doskonalenia Zawodowego
END:VEVENT
END:VCALENDAR