BEGIN:VCALENDAR
VERSION:2.0
PRODID:-//Okręgowa Rada Adwokacka w Warszawie - ECPv5.11.0//NONSGML v1.0//EN
CALSCALE:GREGORIAN
METHOD:PUBLISH
X-WR-CALNAME:Okręgowa Rada Adwokacka w Warszawie
X-ORIGINAL-URL:https://www.ora-warszawa.com.pl
X-WR-CALDESC:Wydarzenia dla Okręgowa Rada Adwokacka w Warszawie
BEGIN:VTIMEZONE
TZID:Europe/Warsaw
BEGIN:DAYLIGHT
TZOFFSETFROM:+0100
TZOFFSETTO:+0200
TZNAME:CEST
DTSTART:20240331T010000
END:DAYLIGHT
BEGIN:STANDARD
TZOFFSETFROM:+0200
TZOFFSETTO:+0100
TZNAME:CET
DTSTART:20241027T010000
END:STANDARD
END:VTIMEZONE
BEGIN:VEVENT
DTSTART;TZID=Europe/Warsaw:20240416T180000
DTEND;TZID=Europe/Warsaw:20240416T193000
DTSTAMP:20260424T135234
CREATED:20240325T081043Z
LAST-MODIFIED:20240325T081043Z
UID:126016-1713290400-1713295800@www.ora-warszawa.com.pl
SUMMARY:Szkolenie KDZ: Nadużywanie pozycji dominującej jako praktyka ograniczająca konkurencję - aspekty praktyczne
DESCRIPTION:Zachęcamy do wzięcia udziału w szkoleniu KDZ pt. „Nadużywanie pozycji dominującej jako praktyka ograniczająca konkurencję – aspekty praktyczne”\, które poprowadzi adw. dr Hanna Marczewska. \nSzkolenie odbędzie się w dniu 16 kwietnia 2024 r. w godz. od 18.00 do 19.30. \nLink do rejestracji: https://ora-warszawa-pl.zoom.us/webinar/register/WN_MHccN8FHRMi5Dfyhyn7NiA
URL:https://www.ora-warszawa.com.pl/wydarzenie/szkolenie-kdz-naduzywanie-pozycji-dominujacej-jako-praktyka-ograniczajaca-konkurencje-aspekty-praktyczne/
LOCATION:Platforma ZOOM
CATEGORIES:Komisja Doskonalenia Zawodowego
END:VEVENT
END:VCALENDAR