BEGIN:VCALENDAR
VERSION:2.0
PRODID:-//Okręgowa Rada Adwokacka w Warszawie - ECPv5.11.0//NONSGML v1.0//EN
CALSCALE:GREGORIAN
METHOD:PUBLISH
X-WR-CALNAME:Okręgowa Rada Adwokacka w Warszawie
X-ORIGINAL-URL:https://www.ora-warszawa.com.pl
X-WR-CALDESC:Wydarzenia dla Okręgowa Rada Adwokacka w Warszawie
BEGIN:VTIMEZONE
TZID:Europe/Warsaw
BEGIN:DAYLIGHT
TZOFFSETFROM:+0100
TZOFFSETTO:+0200
TZNAME:CEST
DTSTART:20260329T010000
END:DAYLIGHT
BEGIN:STANDARD
TZOFFSETFROM:+0200
TZOFFSETTO:+0100
TZNAME:CET
DTSTART:20261025T010000
END:STANDARD
END:VTIMEZONE
BEGIN:VEVENT
DTSTART;TZID=Europe/Warsaw:20260202T180000
DTEND;TZID=Europe/Warsaw:20260202T193000
DTSTAMP:20260424T170540
CREATED:20260115T113736Z
LAST-MODIFIED:20260115T113736Z
UID:142082-1770055200-1770060600@www.ora-warszawa.com.pl
SUMMARY:Szkolenie KDZ: Kredyt konsumencki - najważniejsze zmiany w ustawie
DESCRIPTION:Zachęcamy do wzięcia udziału w szkoleniu KDZ pt. „Kredyt konsumencki – najważniejsze zmiany w ustawie”\, które poprowadzi adw. dr Beata Paxford. \nSzkolenie odbędzie się w dniu 2 lutego 2026 r. w godz. od 18.00 do 19.30 (konspekt wykładu). \nLink do rejestracji: https://ora-warszawa-pl.zoom.us/webinar/register/WN_uCeTrWwLSlOMLzaWXTXnng
URL:https://www.ora-warszawa.com.pl/wydarzenie/szkolenie-kdz-kredyt-konsumencki-najwazniejsze-zmiany-w-ustawie/
LOCATION:Platforma ZOOM
CATEGORIES:Komisja Doskonalenia Zawodowego
END:VEVENT
END:VCALENDAR