BEGIN:VCALENDAR
VERSION:2.0
PRODID:-//Okręgowa Rada Adwokacka w Warszawie - ECPv5.11.0//NONSGML v1.0//EN
CALSCALE:GREGORIAN
METHOD:PUBLISH
X-WR-CALNAME:Okręgowa Rada Adwokacka w Warszawie
X-ORIGINAL-URL:https://www.ora-warszawa.com.pl
X-WR-CALDESC:Wydarzenia dla Okręgowa Rada Adwokacka w Warszawie
BEGIN:VTIMEZONE
TZID:Europe/Warsaw
BEGIN:DAYLIGHT
TZOFFSETFROM:+0100
TZOFFSETTO:+0200
TZNAME:CEST
DTSTART:20240331T010000
END:DAYLIGHT
BEGIN:STANDARD
TZOFFSETFROM:+0200
TZOFFSETTO:+0100
TZNAME:CET
DTSTART:20241027T010000
END:STANDARD
END:VTIMEZONE
BEGIN:VEVENT
DTSTART;TZID=Europe/Warsaw:20240725T100000
DTEND;TZID=Europe/Warsaw:20240725T140000
DTSTAMP:20260424T135233
CREATED:20240704T201312Z
LAST-MODIFIED:20240704T201415Z
UID:128135-1721901600-1721916000@www.ora-warszawa.com.pl
SUMMARY:Szkolenie KDZ i Beck Akademii: Och­rona sygna­li­stów w orga­ni­za­cjach – ustawa z dnia 14 czerwca 2024 r. i dobre prak­tyki
DESCRIPTION:Komi­sja Dosko­na­le­nia Zawo­do­wego przy Okrę­go­wej Radzie Adwo­kac­kiej w War­sza­wie wraz z Beck Aka­de­mią zapra­sza na szko­le­nie dla adwo­ka­tów i apli­kan­tów adwo­kac­kich: \n„Och­rona sygna­li­stów w orga­ni­za­cjach – ustawa z dnia 14 czerwca 2024 r. i dobre prak­tyki”. \nPre­le­genci: Zuzanna Dobro­wol­ska\, Mar­cin Waszak \nTer­min: 25 lipca 2024 r.\, godz. 10.00–14.00 \nCena z raba­tem 15%*: 501\,50 zł z VAT \n*cena z wyko­rzy­sta­niem aktu­al­nego kodu raba­to­wego\, dostęp­nego w Panelu Adwo­kata\, w zakładce Bie­żące komu­ni­katy – „Zniżka dla adwo­ka­tów – Aka­de­mia Beck” \nSzcze­góły i reje­stra­cja: link \nWykład będzie pro­wa­dzony na żywo za pośred­nic­twem plat­formy szko­le­nio­wej (Clic­kMe­eting albo Micro­soft Teams). \nSer­decz­nie zapra­szamy!
URL:https://www.ora-warszawa.com.pl/wydarzenie/szkolenie-kdz-i-beck-akademii-ochrona-sygnalistow-w-organizacjach-ustawa-z-dnia-14-czerwca-2024-r-i-dobre-praktyki/
CATEGORIES:Komisja Doskonalenia Zawodowego
END:VEVENT
END:VCALENDAR