BEGIN:VCALENDAR
VERSION:2.0
PRODID:-//Okręgowa Rada Adwokacka w Warszawie - ECPv5.11.0//NONSGML v1.0//EN
CALSCALE:GREGORIAN
METHOD:PUBLISH
X-WR-CALNAME:Okręgowa Rada Adwokacka w Warszawie
X-ORIGINAL-URL:https://www.ora-warszawa.com.pl
X-WR-CALDESC:Wydarzenia dla Okręgowa Rada Adwokacka w Warszawie
BEGIN:VTIMEZONE
TZID:Europe/Warsaw
BEGIN:DAYLIGHT
TZOFFSETFROM:+0100
TZOFFSETTO:+0200
TZNAME:CEST
DTSTART:20240331T010000
END:DAYLIGHT
BEGIN:STANDARD
TZOFFSETFROM:+0200
TZOFFSETTO:+0100
TZNAME:CET
DTSTART:20241027T010000
END:STANDARD
END:VTIMEZONE
BEGIN:VEVENT
DTSTART;TZID=Europe/Warsaw:20240416T170000
DTEND;TZID=Europe/Warsaw:20240416T190000
DTSTAMP:20260424T120924
CREATED:20240328T083009Z
LAST-MODIFIED:20240328T083009Z
UID:126194-1713286800-1713294000@www.ora-warszawa.com.pl
SUMMARY:SPP: Whistleblowing
DESCRIPTION:Sekcja Prawa Publicznego i Compliance przy Okręgowej Radzie Adwokackiej w Warszawie zaprasza na szkolenie pt. Whistleblowing.  \nSzkolenie odbędzie się 16 kwietnia 2024 r. (wtorek) w godz. 17.00-19.00\, na platformie ZOOM.  \nLink do rejestracji: https://ora-warszawa-pl.zoom.us/webinar/register/WN_SnXDPKgbQgS6rdzcMegIHA#/registration \nPrelegenci: \nPhilipp Prohl – Head of Compliance\, Region Europe\, DB Schenker \nadw. Marcin Winter – Head of Compliance\, South East Europe (SEE) Cluster\, DB Schenker \nSzkolenie odbędzie się w języku angielskim. \n  \nSerdecznie zapraszamy!
URL:https://www.ora-warszawa.com.pl/wydarzenie/spp-whistleblowing-2/
LOCATION:Platforma ZOOM
CATEGORIES:Sekcje Praktyków Prawa
END:VEVENT
END:VCALENDAR