BEGIN:VCALENDAR
VERSION:2.0
PRODID:-//Okręgowa Rada Adwokacka w Warszawie - ECPv5.11.0//NONSGML v1.0//EN
CALSCALE:GREGORIAN
METHOD:PUBLISH
X-WR-CALNAME:Okręgowa Rada Adwokacka w Warszawie
X-ORIGINAL-URL:https://www.ora-warszawa.com.pl
X-WR-CALDESC:Wydarzenia dla Okręgowa Rada Adwokacka w Warszawie
BEGIN:VTIMEZONE
TZID:Europe/Warsaw
BEGIN:DAYLIGHT
TZOFFSETFROM:+0100
TZOFFSETTO:+0200
TZNAME:CEST
DTSTART:20240331T010000
END:DAYLIGHT
BEGIN:STANDARD
TZOFFSETFROM:+0200
TZOFFSETTO:+0100
TZNAME:CET
DTSTART:20241027T010000
END:STANDARD
END:VTIMEZONE
BEGIN:VEVENT
DTSTART;TZID=Europe/Warsaw:20241029T100000
DTEND;TZID=Europe/Warsaw:20241029T133000
DTSTAMP:20260424T120935
CREATED:20241016T112928Z
LAST-MODIFIED:20241016T113127Z
UID:130118-1730196000-1730208600@www.ora-warszawa.com.pl
SUMMARY:SPP: Warsztaty z negocjacji
DESCRIPTION:Sekcja Arbitrażu i Mediacji przy Okręgowej Radzie Adwokackiej w Warszawie serdecznie zaprasza na Warsztaty z negocjacji. Warsztaty poprowadzą amerykańscy mediatorzy – Howard Herman i Claudia Bernad\, którzy pokażą użycie technik negocjacyjnych podczas mediacji i innych ADR. \nData: 29 października 2024 r.\, w godz. 10.00-13.30. \nMiejsce: Okręgowa Rada Adwokacka w Warszawie\, Sala im. Krajewskiego \n  \nZapraszamy serdecznie!
URL:https://www.ora-warszawa.com.pl/wydarzenie/spp-warsztaty-z-negocjacji/
LOCATION:ORA Warszawa\, Ujazdowskie 49\, Warszawa\, Mazowieckie\, 00-536\, Polska
CATEGORIES:Sekcje Praktyków Prawa
END:VEVENT
END:VCALENDAR