BEGIN:VCALENDAR
VERSION:2.0
PRODID:-//Okręgowa Rada Adwokacka w Warszawie - ECPv5.11.0//NONSGML v1.0//EN
CALSCALE:GREGORIAN
METHOD:PUBLISH
X-WR-CALNAME:Okręgowa Rada Adwokacka w Warszawie
X-ORIGINAL-URL:https://www.ora-warszawa.com.pl
X-WR-CALDESC:Wydarzenia dla Okręgowa Rada Adwokacka w Warszawie
BEGIN:VTIMEZONE
TZID:Europe/Warsaw
BEGIN:DAYLIGHT
TZOFFSETFROM:+0100
TZOFFSETTO:+0200
TZNAME:CEST
DTSTART:20240331T010000
END:DAYLIGHT
BEGIN:STANDARD
TZOFFSETFROM:+0200
TZOFFSETTO:+0100
TZNAME:CET
DTSTART:20241027T010000
END:STANDARD
END:VTIMEZONE
BEGIN:VEVENT
DTSTART;TZID=Europe/Warsaw:20240312T160000
DTEND;TZID=Europe/Warsaw:20240312T180000
DTSTAMP:20260424T140003
CREATED:20240304T150513Z
LAST-MODIFIED:20240304T150513Z
UID:125615-1710259200-1710266400@www.ora-warszawa.com.pl
SUMMARY:SPP: Strategiczne ryzyka dla biznesu w kontekście realnych zagrożeń bezpieczeństwa
DESCRIPTION:Sekcja Prawa Amerykańskiego i Brytyjskiego przy Okręgowej Radzie Adwokackiej w Warszawie zaprasza na spotkanie pt.: Strategiczne ryzyka dla biznesu w kontekście realnych zagrożeń bezpieczeństwa. \n\nPrelegent: Tomasz Urbaniak – Ekspert Bezpieczeństwa\, Business Security Adviser w Verificators\nModerator: adw. Joanna Iwanicka\n\nTermin i lokalizacja spotkania: \n\n12 marca 2024 r. (wtorek)\nw godzinach: 16.00 -18.00\nStacjonarnie: Okręgowa Rada Adwokacka w Warszawie\, sala im. H. Krajewskiego – Al. Ujazdowskie 49\n\nZachęcamy do wcześniejszej rejestracji. \n 
URL:https://www.ora-warszawa.com.pl/wydarzenie/spp-strategiczne-ryzyka-dla-biznesu-w-kontekscie-realnych-zagrozen-bezpieczenstwa/
LOCATION:ORA Warszawa\, Ujazdowskie 49\, Warszawa\, Mazowieckie\, 00-536\, Polska
CATEGORIES:Sekcje Praktyków Prawa
END:VEVENT
END:VCALENDAR