BEGIN:VCALENDAR
VERSION:2.0
PRODID:-//Okręgowa Rada Adwokacka w Warszawie - ECPv5.11.0//NONSGML v1.0//EN
CALSCALE:GREGORIAN
METHOD:PUBLISH
X-WR-CALNAME:Okręgowa Rada Adwokacka w Warszawie
X-ORIGINAL-URL:https://www.ora-warszawa.com.pl
X-WR-CALDESC:Wydarzenia dla Okręgowa Rada Adwokacka w Warszawie
BEGIN:VTIMEZONE
TZID:Europe/Warsaw
BEGIN:DAYLIGHT
TZOFFSETFROM:+0100
TZOFFSETTO:+0200
TZNAME:CEST
DTSTART:20220327T010000
END:DAYLIGHT
BEGIN:STANDARD
TZOFFSETFROM:+0200
TZOFFSETTO:+0100
TZNAME:CET
DTSTART:20221030T010000
END:STANDARD
END:VTIMEZONE
BEGIN:VEVENT
DTSTART;TZID=Europe/Warsaw:20220224T160000
DTEND;TZID=Europe/Warsaw:20220224T180000
DTSTAMP:20260426T010001
CREATED:20220217T150613Z
LAST-MODIFIED:20220217T150613Z
UID:53827-1645718400-1645725600@www.ora-warszawa.com.pl
SUMMARY:SPP: Prejudycjalne znaczenie decyzji Urzędu Patentowego RP w procesie cywilnym
DESCRIPTION:Sekcja Prawa Własności Przemysłowej zaprasza członków i sympatyków na spotkanie z sędzią dr Arkadiuszem Sadzą\, podczas którego omówiony i poddany dyskusji zostanie  następujący temat: „Prejudycjalne znaczenie decyzji Urzędu Patentowego RP w procesie cywilnym„. \nDr Arkadiusz Sadza jest pracownikiem naukowym UMCS w Lublinie i  autorem wydanej w 2021r. monografii” Wpływ decyzji Urzędu Patentowego RP na postępowanie cywilne w sprawach z zakresu prawa własności przemysłowej” . Członek Towarzystwa Naukowego Procesualistów Cywilnych w Krakowie\, autor licznych artykułów naukowych i glos z zakresu postępowania cywilnego. W 2021 r. otrzymał powołanie na stanowisko sędziego Sądu Rejonowego Lublin-Zachód w Lublinie\, gdzie pełni obowiązki orzecznicze w wydziale cywilnym. \n  \nSpotkanie odbędzie się na platformie ZOOM w dniu 24 lutego 2022r. w godzinach 16.00-18.00 \n  \nLink do rejestracji:  https://zoom.us/webinar/register/WN_hYEV3nL-Qy6IH5b-1shRZQ \n  \nZapraszamy do zapisów! \nadw. Adrianna Pilecka
URL:https://www.ora-warszawa.com.pl/wydarzenie/spp-prejudycjalne-znaczenie-decyzji-urzedu-patentowego-rp-w-procesie-cywilnym/
CATEGORIES:Sekcje Praktyków Prawa
END:VEVENT
END:VCALENDAR