BEGIN:VCALENDAR
VERSION:2.0
PRODID:-//Okręgowa Rada Adwokacka w Warszawie - ECPv5.11.0//NONSGML v1.0//EN
CALSCALE:GREGORIAN
METHOD:PUBLISH
X-WR-CALNAME:Okręgowa Rada Adwokacka w Warszawie
X-ORIGINAL-URL:https://www.ora-warszawa.com.pl
X-WR-CALDESC:Wydarzenia dla Okręgowa Rada Adwokacka w Warszawie
BEGIN:VTIMEZONE
TZID:Europe/Warsaw
BEGIN:DAYLIGHT
TZOFFSETFROM:+0100
TZOFFSETTO:+0200
TZNAME:CEST
DTSTART:20250330T010000
END:DAYLIGHT
BEGIN:STANDARD
TZOFFSETFROM:+0200
TZOFFSETTO:+0100
TZNAME:CET
DTSTART:20251026T010000
END:STANDARD
END:VTIMEZONE
BEGIN:VEVENT
DTSTART;TZID=Europe/Warsaw:20250124T180000
DTEND;TZID=Europe/Warsaw:20250124T200000
DTSTAMP:20260424T121418
CREATED:20250116T154315Z
LAST-MODIFIED:20250116T154315Z
UID:132157-1737741600-1737748800@www.ora-warszawa.com.pl
SUMMARY:SPP: Otwarte spotkanie z prof. Danutą Hübner - Czy Europie grozi samotność w świecie geopolitycznej niestabilności?
DESCRIPTION:Sekcja Prawa Europejskiego przy Okręgowej Radzie Adwokackiej w Warszawie serdecznie zaprasza na otwarte spotkanie z prof. Danutą Hübner. \nTemat spotkania: Czy Europie grozi samotność w świecie geopolitycznej niestabilności? \nSpotkanie odbędzie się 24 stycznia 2025 r. (piątek) w godz. 18.00-20.00 i będzie miało formę hybrydową. \nStacjonarnie – siedziba Okręgowej Rady Adwokackiej w Warszawie\, sala im. H. Krajewskiego \nOnline – platform ZOOM\, link do rejestracji: https://ora-warszawa-pl.zoom.us/webinar/register/WN_4_AHus7XRp2Wmn4JO2tmMg#/registration \n  \nSerdecznie zapraszamy! \nadw. Marcin Piechocki \napl. adw. Franciszek Wiącek
URL:https://www.ora-warszawa.com.pl/wydarzenie/spp-otwarte-spotkanie-z-prof-danuta-hubner-czy-europie-grozi-samotnosc-w-swiecie-geopolitycznej-niestabilnosci/
LOCATION:ORA Warszawa + platforma ZOOM
END:VEVENT
END:VCALENDAR