BEGIN:VCALENDAR
VERSION:2.0
PRODID:-//Okręgowa Rada Adwokacka w Warszawie - ECPv5.11.0//NONSGML v1.0//EN
CALSCALE:GREGORIAN
METHOD:PUBLISH
X-WR-CALNAME:Okręgowa Rada Adwokacka w Warszawie
X-ORIGINAL-URL:https://www.ora-warszawa.com.pl
X-WR-CALDESC:Wydarzenia dla Okręgowa Rada Adwokacka w Warszawie
BEGIN:VTIMEZONE
TZID:Europe/Warsaw
BEGIN:DAYLIGHT
TZOFFSETFROM:+0100
TZOFFSETTO:+0200
TZNAME:CEST
DTSTART:20260329T010000
END:DAYLIGHT
BEGIN:STANDARD
TZOFFSETFROM:+0200
TZOFFSETTO:+0100
TZNAME:CET
DTSTART:20261025T010000
END:STANDARD
END:VTIMEZONE
BEGIN:VEVENT
DTSTART;TZID=Europe/Warsaw:20260302T180000
DTEND;TZID=Europe/Warsaw:20260302T200000
DTSTAMP:20260424T165811
CREATED:20260224T085036Z
LAST-MODIFIED:20260224T085036Z
UID:142755-1772474400-1772481600@www.ora-warszawa.com.pl
SUMMARY:Spotkanie z panem Maciejem Radziwiłłem
DESCRIPTION:Dziekan Okręgowej Rady Adwokackiej w Warszawie adw. dr Katarzyna Gajowniczek-Pruszyńska oraz Komisja Historii i Tradycji Adwokatury Warszawskiej przy ORA w Warszawie serdecznie zapraszają na spotkanie z panem Maciejem Radziwiłłem\, które odbędzie się w poniedziałek\, 2 marca 2026 r. w godz. 18.00-20.00 w sali im. adw. H. Krajewskiego w siedzibie ORA w Warszawie. Transmisja wydarzenia odbędzie się na profilu ORA w Warszawie w serwisie YouTube. \nGościem adw. Macieja Marka Kamińskiego będzie Maciej Radziwiłł – socjolog\, finansista i filantrop\, potomek jednej z najważniejszych rodzin w historii Rzeczypospolitej\, w latach PRL drukarz niezależnych wydawnictw i działacz podziemia\, sądzony i więziony przez władze komunistyczne za działalność opozycyjną\, broniony przez najwybitniejszych warszawskich adwokatów – obrońców politycznych\, bohater wywiadu-rzeki\, przeprowadzonego przez Aleksandra Kaczorowskiego i wydanego w książce „Radziwiłł” (Warszawa 2025). \nMaciej Radziwiłł opowie o realiach procesów politycznych schyłkowego okresu PRL z punktu widzenia oskarżonego\, w tym o różnych metodach i strategiach obron obieranych przez adwokatów w ówczesnych procesach politycznych\, o rzeczywistości komunistycznego więzienia z punktu widzenia osadzonego w nim więźnia politycznego\, a także o tym\, jak potomkowie arystokracji radzili sobie w państwie programowo im wrogim\, jakim było państwo odwołujące się do ideologii komunistycznej. Nie zabraknie także ciekawych tematów dla osób interesujących się genealogią oraz rozmowy o możliwych sposobach współczesnego kultywowania pamięci o historycznym dziedzictwie Wielkiego Księstwa Litewskiego. \nSpotkanie odbędzie się w formule hybrydowej: \n\nstacjonarnie: w sali im. adw. H. Krajewskiego w siedzibie ORA w Warszawie przy Al. Ujazdowskich 49\non-line: na żywo na profilu ORA w Warszawie w serwisie YouTube: https://youtube.com/live/X6udSYOnD5M?feature=share
URL:https://www.ora-warszawa.com.pl/wydarzenie/spotkanie-z-panem-maciejem-radziwillem/
LOCATION:ORA Warszawa + YouTube
CATEGORIES:ORA Warszawa
END:VEVENT
END:VCALENDAR