BEGIN:VCALENDAR
VERSION:2.0
PRODID:-//Okręgowa Rada Adwokacka w Warszawie - ECPv5.11.0//NONSGML v1.0//EN
CALSCALE:GREGORIAN
METHOD:PUBLISH
X-WR-CALNAME:Okręgowa Rada Adwokacka w Warszawie
X-ORIGINAL-URL:https://www.ora-warszawa.com.pl
X-WR-CALDESC:Wydarzenia dla Okręgowa Rada Adwokacka w Warszawie
BEGIN:VTIMEZONE
TZID:Europe/Warsaw
BEGIN:DAYLIGHT
TZOFFSETFROM:+0100
TZOFFSETTO:+0200
TZNAME:CEST
DTSTART:20260329T010000
END:DAYLIGHT
BEGIN:STANDARD
TZOFFSETFROM:+0200
TZOFFSETTO:+0100
TZNAME:CET
DTSTART:20261025T010000
END:STANDARD
END:VTIMEZONE
BEGIN:VEVENT
DTSTART;TZID=Europe/Warsaw:20260421T170000
DTEND;TZID=Europe/Warsaw:20260421T170000
DTSTAMP:20260424T165809
CREATED:20260420T123028Z
LAST-MODIFIED:20260420T123028Z
UID:144000-1776790800-1776790800@www.ora-warszawa.com.pl
SUMMARY:Spotkanie: Najnowsze i projektowane zmiany kodeksu postępowania cywilnego – okiem ekspertów
DESCRIPTION:W imieniu organizatorów serdecznie zapraszamy na drugie spotkanie autorskie organizowane wspólnie przez Wydawnictwo C.H.Beck i Wydawnictwo Currenda. To wyjątkowa inicjatywa\, która tworzy przestrzeń do merytorycznej rozmowy o najważniejszych zmianach w prawie i ich wpływie na codzienną praktykę prawniczą. Tym razem spotykamy się stacjonarnie w księgarni C.H.Beck przy Al. „Solidarności” 83/89 w Warszawie – z możliwością udziału w spotkaniu również online w Czytelni Currendy. \nO aktualnych i projektowanych zmianach w procedurze cywilnej\, ich konsekwencjach oraz kierunkach rozwoju porozmawiają: \n\n dr hab. Joanna Studzińska\, prof. ALK\ndr hab. Robert Kulski\, prof. UŁ\n\nSpotkanie poprowadzi: dr Andrzej Jan Szereda \nKiedy: 21 kwietnia 2026 r.\, godz. 17:00 \nGdzie: Księgarnia prawnicza C.H.Beck\, Warszawa\, Al. „Solidarności” 83/89 – Wstęp wolny\, lecz ze względu na ograniczoną liczbę miejsc w księgarni prosimy o potwierdzenie przybycia na adres e-mail: olga.blachnio@beck.pl \nTransmisja online – zapisy: https://www.currenda.pl/konferencje/najnowsze-i-projektowane-zmiany-kodeksu-postepowania-cywilnego-okiem-ekspertow-spotkanie-autorskie/
URL:https://www.ora-warszawa.com.pl/wydarzenie/spotkanie-najnowsze-i-projektowane-zmiany-kodeksu-postepowania-cywilnego-okiem-ekspertow/
CATEGORIES:Wydarzenia zewnętrzne
END:VEVENT
END:VCALENDAR