BEGIN:VCALENDAR
VERSION:2.0
PRODID:-//Okręgowa Rada Adwokacka w Warszawie - ECPv5.11.0//NONSGML v1.0//EN
CALSCALE:GREGORIAN
METHOD:PUBLISH
X-WR-CALNAME:Okręgowa Rada Adwokacka w Warszawie
X-ORIGINAL-URL:https://www.ora-warszawa.com.pl
X-WR-CALDESC:Wydarzenia dla Okręgowa Rada Adwokacka w Warszawie
BEGIN:VTIMEZONE
TZID:Europe/Warsaw
BEGIN:DAYLIGHT
TZOFFSETFROM:+0100
TZOFFSETTO:+0200
TZNAME:CEST
DTSTART:20260329T010000
END:DAYLIGHT
BEGIN:STANDARD
TZOFFSETFROM:+0200
TZOFFSETTO:+0100
TZNAME:CET
DTSTART:20261025T010000
END:STANDARD
END:VTIMEZONE
BEGIN:VEVENT
DTSTART;TZID=Europe/Warsaw:20260309T180000
DTEND;TZID=Europe/Warsaw:20260309T180000
DTSTAMP:20260424T165805
CREATED:20260303T091758Z
LAST-MODIFIED:20260303T091758Z
UID:142889-1773079200-1773079200@www.ora-warszawa.com.pl
SUMMARY:Spotkanie „Debaty karne” z udziałem Dziekan ORA w Warszawie\, adw. dr Katarzyną Gajowniczek-Pruszyńską
DESCRIPTION:Już 9 marca odbędzie się kolejna edycja „Debat karnych” organizowanych przez Kolegium Prawa Akademii Leona Koźmińskiego z udziałem Dziekan Okręgowej Rady Adwokackiej w Warszawie\, adw. dr Katarzyną Gajowniczek-Pruszyńską. \nW ramach spotkania paneliści porozmawiają o rolach\, jakie poszczególne zawody prawnicze odgrywają w procesie wymierzania sprawiedliwości\, o ich wzajemnych relacjach i tym\, jak się postrzegają. Zastanowią się również nad tym\, czy sędziowie\, prokuratorzy\, adwokaci i radcowie prawni tworzą spójny mechanizm instytucjonalny\, czy raczej funkcjonują w odrębnych logikach działania. \nPaneliści: \n\nsędzia Agnieszka Wojciechowska-Langda\, Prezes Sądu Okręgowego Warszawa-Praga w Warszawie;\nprokurator Aleksandra Sroczyńska\, Prokurator Okręgowa Warszawa-Praga w Warszawie;\nadw. dr Katarzyna Gajowniczek-Pruszyńska\, Dziekan Okręgowej Rady Adwokackiej w Warszawie;\nr. pr. Anna Sękowska\, Dziekan Rady Okręgowej Izby Radwców Prawnych w Warszawie.\n\nProwadzący: Dr Michał Hudzik\, Katedra Prawa Karnego\, Akademia Leon Koźmińskiego. \nTermin: 9 marca (poniedziałek)\, godz. 18:00 \nMiejsce: Aula Leona Koźmińskiego (bud. C)\, Akademia Leona Koźmińskiego [ul. Jagiellońska 59\, Warszawa] \nNa wydarzenie obowiązują zapisy. Formularz zgłoszeniowy: \nKarne debaty (9.03.2026 r.\, 18:00) Łańcuch sprawiedliwości – Wypełnij formularz \nIstnieje możliwość uzyskania certyfikatu udziału (w wypadku zaznaczenia takiej opcji w formularzu zgłoszeniowym). \nSerdecznie zapraszamy do udziału w wydarzeniu!
URL:https://www.ora-warszawa.com.pl/wydarzenie/spotkanie-debaty-karne-z-udzialem-dziekan-ora-w-warszawie-adw-dr-katarzyna-gajowniczek-pruszynska/
LOCATION:Akademia Leona Koźmińskiego\, Jagiellońska 59\, Warszawa
CATEGORIES:Wydarzenia zewnętrzne
END:VEVENT
END:VCALENDAR