BEGIN:VCALENDAR
VERSION:2.0
PRODID:-//Okręgowa Rada Adwokacka w Warszawie - ECPv5.11.0//NONSGML v1.0//EN
CALSCALE:GREGORIAN
METHOD:PUBLISH
X-WR-CALNAME:Okręgowa Rada Adwokacka w Warszawie
X-ORIGINAL-URL:https://www.ora-warszawa.com.pl
X-WR-CALDESC:Wydarzenia dla Okręgowa Rada Adwokacka w Warszawie
BEGIN:VTIMEZONE
TZID:Europe/Warsaw
BEGIN:DAYLIGHT
TZOFFSETFROM:+0100
TZOFFSETTO:+0200
TZNAME:CEST
DTSTART:20260329T010000
END:DAYLIGHT
BEGIN:STANDARD
TZOFFSETFROM:+0200
TZOFFSETTO:+0100
TZNAME:CET
DTSTART:20261025T010000
END:STANDARD
END:VTIMEZONE
BEGIN:VEVENT
DTSTART;TZID=Europe/Warsaw:20260324T180000
DTEND;TZID=Europe/Warsaw:20260324T200000
DTSTAMP:20260424T120253
CREATED:20260316T083138Z
LAST-MODIFIED:20260316T083204Z
UID:143225-1774375200-1774382400@www.ora-warszawa.com.pl
SUMMARY:Spotkanie autorskie poświęcone książce „To nie była kwestia odwagi. Opowieść o adwokacie Edward Wende”
DESCRIPTION:Dziekan Okręgowej Rady Adwokackiej w Warszawie adw. dr Katarzyna Gajowniczek-Pruszyńska oraz Komisja Historii i Tradycji Adwokatury Warszawskiej serdecznie zapraszają na spotkanie autorskie poświęcone książce „To nie była kwestia odwagi. Opowieść o adwokacie Edward Wende”\, które odbędzie się we wtorek\, 24 marca 2026 r. o godz. 18.00 w siedzibie ORA w Warszawie.  \nGościem wydarzenia będzie autorka\, Joanna Sędek\, a spotkanie poprowadzi Dziekan ORA w Warszawie adw. dr Katarzyna Gajowniczek-Pruszyńska. \nKsiążka „To nie była kwestia odwagi. Opowieść o adwokacie Edward Wende” to opowieść o losach i zawodowej drodze adwokata\, którego biografia stała się pretekstem do szerszej refleksji o etosie adwokatury\, odpowiedzialności i wyborach podejmowanych w trudnych okolicznościach. \nSpotkanie będzie okazją do rozmowy o kulisach powstawania publikacji\, o warszawskiej tradycji adwokackiej oraz o tym\, jak dziś czytać historię i doświadczenia wybitnych przedstawicieli zawodu. \nWydarzenie będzie transmitowane na kanale YouTube: https://youtube.com/live/_BQHhoTZBXs?feature=share \nSerdecznie zapraszamy!
URL:https://www.ora-warszawa.com.pl/wydarzenie/spotkanie-autorskie-poswiecone-ksiazce-to-nie-byla-kwestia-odwagi-opowiesc-o-adwokacie-edward-wende/
LOCATION:ORA Warszawa + YouTube
CATEGORIES:ORA Warszawa
END:VEVENT
END:VCALENDAR