BEGIN:VCALENDAR
VERSION:2.0
PRODID:-//Okręgowa Rada Adwokacka w Warszawie - ECPv5.11.0//NONSGML v1.0//EN
CALSCALE:GREGORIAN
METHOD:PUBLISH
X-WR-CALNAME:Okręgowa Rada Adwokacka w Warszawie
X-ORIGINAL-URL:https://www.ora-warszawa.com.pl
X-WR-CALDESC:Wydarzenia dla Okręgowa Rada Adwokacka w Warszawie
BEGIN:VTIMEZONE
TZID:Europe/Warsaw
BEGIN:DAYLIGHT
TZOFFSETFROM:+0100
TZOFFSETTO:+0200
TZNAME:CEST
DTSTART:20260329T010000
END:DAYLIGHT
BEGIN:STANDARD
TZOFFSETFROM:+0200
TZOFFSETTO:+0100
TZNAME:CET
DTSTART:20261025T010000
END:STANDARD
END:VTIMEZONE
BEGIN:VEVENT
DTSTART;TZID=Europe/Warsaw:20260325T100000
DTEND;TZID=Europe/Warsaw:20260325T160000
DTSTAMP:20260424T151721
CREATED:20260312T105434Z
LAST-MODIFIED:20260312T105434Z
UID:143184-1774432800-1774454400@www.ora-warszawa.com.pl
SUMMARY:Profesjonalna sesja zdjęciowa
DESCRIPTION:Szanowni Państwo\, Szanowne Koleżanki\, Szanowni Koledzy\,  \nserdecznie zapraszamy do udziału w profesjonalnej sesji zdjęciowej\, która odbędzie się w dniu w środę\, 25 marca 2026 r.\, w godz. 10.00-16.00\, w siedzibie Okręgowej Rady Adwokackiej w Warszawie\, Al. Ujazdowskie 49\, na pierwszym piętrze\, w sali im. adw. H. Krajewskiego. \nCena: 250 zł brutto\nFakturę wystawioną przez Fotografa otrzyma każdy uczestnik na wskazany przez siebie adres e-mail (w przypadku wyboru większej liczby ujęć cena ustalana jest indywidualnie). \nFotograf: Michał Borowski \nZapisy\nRejestracji do udziału w sesji można dokonać mailowo bezpośrednio u Fotografa\, wskazując preferowaną godzinę oraz numer telefonu do kontaktu. Zgłoszenia przyjmowane są pod adresem mailowym: michal_borowski@op.pl lub pod numerem telefonu 608-080-003. Zapisy przyjmowane są od poniedziałku do piątku. \nPo potwierdzeniu przez Fotografa godziny sesji zdjęciowej\, otrzymacie Państwo wiadomość e-mail z numerem rachunku bankowego\, na który należy dokonać wpłaty 250 zł lub innej ustalonej indywidulanie. Brak wpłaty w ciągu 48h oznacza rezygnację z zarezerwowanej godziny. \nOdbiór zdjęć\nPo wykonaniu zdjęć\, w ciągu 7 dni\, Fotograf prześle wszystkie wykonane ujęcia na adres e-mail uczestnika sesji\, z których należy dokonać wyboru 4 zdjęć (lub wg ustaleń indywidulanych). Wybrane zdjęcia zostaną poddane obróbce graficznej.  \nSzczegóły organizacyjne\nSesja będzie trwać nie dłużej niż 15 minut. Prosimy o wcześniejsze przybycie\, ok. 15 minut przed zarezerwowaną godziną\, aby wizażystka mogła dokonać korekty. Sesja odbędzie się z retuszem i wizażem podstawowym – dla Panów (Panie zapraszamy z makijażem – wizażystka dokona korekty tonów skóry pod kontakt ze światłem błyskowym). W trakcie sesji zdjęcia będą wykonane na minimum 2 tłach. \nRekomendujemy stonowane kolory ubioru (szary\, czarny biały\, granatowy\, błękit) i tkaniny pozbawione drobnych wzorów czy napisów. Radzimy też wybrać delikatną i subtelną biżuterię\, by nie odwracała uwagi od osoby. \nUwaga!\nAby sesja się odbyła\, minimalna liczba uczestników jednego dnia musi wynosić 20 osób. \nZapraszamy wszystkich adwokatów i aplikantów chcących profesjonalnie informować o swoich usługach\, do udziału w najbliższej sesji zdjęciowej. Istnieje możliwość uczestnictwa adwokatów wraz ze współpracownikami z kancelarii. \n  \nZ koleżeńskimi pozdrowieniami\nadw. Joanna Tkaczyk-Lipnicka\n Przewodnicząca Komisji ds. wsparcia w wykonywaniu zawodu
URL:https://www.ora-warszawa.com.pl/wydarzenie/profesjonalna-sesja-zdjeciowa-2/
LOCATION:ORA Warszawa\, Ujazdowskie 49\, Warszawa\, Mazowieckie\, 00-536\, Polska
CATEGORIES:ORA Warszawa
END:VEVENT
END:VCALENDAR