BEGIN:VCALENDAR
VERSION:2.0
PRODID:-//Okręgowa Rada Adwokacka w Warszawie - ECPv5.11.0//NONSGML v1.0//EN
CALSCALE:GREGORIAN
METHOD:PUBLISH
X-WR-CALNAME:Okręgowa Rada Adwokacka w Warszawie
X-ORIGINAL-URL:https://www.ora-warszawa.com.pl
X-WR-CALDESC:Wydarzenia dla Okręgowa Rada Adwokacka w Warszawie
BEGIN:VTIMEZONE
TZID:Europe/Warsaw
BEGIN:DAYLIGHT
TZOFFSETFROM:+0100
TZOFFSETTO:+0200
TZNAME:CEST
DTSTART:20210328T010000
END:DAYLIGHT
BEGIN:STANDARD
TZOFFSETFROM:+0200
TZOFFSETTO:+0100
TZNAME:CET
DTSTART:20211031T010000
END:STANDARD
END:VTIMEZONE
BEGIN:VEVENT
DTSTART;TZID=Europe/Warsaw:20211207T180000
DTEND;TZID=Europe/Warsaw:20211207T200000
DTSTAMP:20260424T121003
CREATED:20211207T101859Z
LAST-MODIFIED:20211207T102220Z
UID:49467-1638900000-1638907200@www.ora-warszawa.com.pl
SUMMARY:Pokaz filmu „Żeby nie było śladów”
DESCRIPTION:Komisja Integracji Środowiskowej Kultury i Sportu Okręgowej Rady Adwokackiej w Warszawie zaprasza adwokatów i aplikantów Izby na zamknięty pokaz filmu „Żeby nie było śladów” o tragicznej historii śmiertelnego pobicia maturzysty Grzegorza Przemyka w latach 80-tych.  \nPokaz odbędzie się już w najbliższy wtorek\, 7 grudnia 2021 r. o godz. 18:00 w Kinotece PKiN (Pałac Kultury i Nauki\, wejście od strony al. Jerozolimskich). \nPrzed pokazem zaplanowana jest rozmowa z Panią Mecenas Ewą Milewską-Celińską\, która reprezentowała rodzinę Grzegorza Przemyka w charakterze oskarżycieli posiłkowych w procesie karnym. Rozmowę poprowadzi Dziekan ORA\, adw. Mikołaj Pietrzak.  \nPo seansie na gości czekać będzie lampka wina. Do naszej dyspozycji będzie także kinowa kawiarnia. \nSzczegóły: https://www.ora-warszawa.com.pl/aktualnosci/wydarzenia-kulturalne/pokaz-filmu-zeby-nie-bylo-sladow-7-grudnia-br/
URL:https://www.ora-warszawa.com.pl/wydarzenie/pokaz-filmu-zeby-nie-bylo-sladow/
CATEGORIES:ORA Warszawa
END:VEVENT
END:VCALENDAR