BEGIN:VCALENDAR
VERSION:2.0
PRODID:-//Okręgowa Rada Adwokacka w Warszawie - ECPv5.11.0//NONSGML v1.0//EN
CALSCALE:GREGORIAN
METHOD:PUBLISH
X-WR-CALNAME:Okręgowa Rada Adwokacka w Warszawie
X-ORIGINAL-URL:https://www.ora-warszawa.com.pl
X-WR-CALDESC:Wydarzenia dla Okręgowa Rada Adwokacka w Warszawie
BEGIN:VTIMEZONE
TZID:Europe/Warsaw
BEGIN:DAYLIGHT
TZOFFSETFROM:+0100
TZOFFSETTO:+0200
TZNAME:CEST
DTSTART:20260329T010000
END:DAYLIGHT
BEGIN:STANDARD
TZOFFSETFROM:+0200
TZOFFSETTO:+0100
TZNAME:CET
DTSTART:20261025T010000
END:STANDARD
END:VTIMEZONE
BEGIN:VEVENT
DTSTART;TZID=Europe/Warsaw:20260509T093000
DTEND;TZID=Europe/Warsaw:20260509T093000
DTSTAMP:20260424T133221
CREATED:20260423T133639Z
LAST-MODIFIED:20260423T133639Z
UID:144130-1778319000-1778319000@www.ora-warszawa.com.pl
SUMMARY:Konferencja „Zamach majowy w perspektywie prawnej”
DESCRIPTION:Dziekan Okręgowej Rady Adwokackiej w Warszawie\, adw. dr Katarzyna Gajowniczek-Pruszyńska\, wraz z Komisją Historii i Tradycji Adwokatury Warszawskiej przy Okręgowej Radzie Adwokackiej w Warszawie oraz Polskim Towarzystwem Historii Prawa\, wobec zbliżającej się setnej rocznicy zamachu majowego (1926 r.)\, serdecznie zapraszają na konferencję pt. „Zamach majowy w perspektywie prawnej”. \nKonferencja odbędzie się w sobotę\, 9 maja 2026 r.\, o godz. 9.30 w siedzibie Okręgowej Rady Adwokackiej w Warszawie przy Al. Ujazdowskich 49\, w sali im. adw. Henryka Krajewskiego. Wydarzenie będzie również transmitowane online.\nLink do transmisji na platformie ZOOM (kliknij tutaj). \nPlan konferencji: \nPanel I (godz. 9.30–11.00)\n„Zamach majowy a polskie konstytucje”\nModeracja: adw. Maciej Marek Kamiński \nPrzerwa kawowa (godz. 11.00–11.30) \nPanel II (godz. 11.30–13.00)\n„Zamachy stanu w perspektywie międzywojennej i współczesnej”\nModeracja: adw. Adriana Gostępska \nEksperci:\nProf. Michał Gałędek – Uniwersytet Gdański\nProf. Maksymilian Stanulewicz – Uniwersytet im. Adama Mickiewicza w Poznaniu\nProf. Anna Tarnowska – Uniwersytet Mikołaja Kopernika w Toruniu\nAdw. Andrzej Tomaszek – Izba Adwokacka w Warszawie\nDr Jacek Wałdoch – Uniwersytet Gdański \nSerdecznie zapraszamy do udziału w konferencji w siedzibie ORA w Warszawie lub do oglądania transmisji online.
URL:https://www.ora-warszawa.com.pl/wydarzenie/konferencja-zamach-majowy-w-perspektywie-prawnej/
LOCATION:ORA Warszawa + platforma ZOOM
CATEGORIES:ORA Warszawa
END:VEVENT
END:VCALENDAR