BEGIN:VCALENDAR
VERSION:2.0
PRODID:-//Okręgowa Rada Adwokacka w Warszawie - ECPv5.11.0//NONSGML v1.0//EN
CALSCALE:GREGORIAN
METHOD:PUBLISH
X-WR-CALNAME:Okręgowa Rada Adwokacka w Warszawie
X-ORIGINAL-URL:https://www.ora-warszawa.com.pl
X-WR-CALDESC:Wydarzenia dla Okręgowa Rada Adwokacka w Warszawie
BEGIN:VTIMEZONE
TZID:Europe/Warsaw
BEGIN:DAYLIGHT
TZOFFSETFROM:+0100
TZOFFSETTO:+0200
TZNAME:CEST
DTSTART:20260329T010000
END:DAYLIGHT
BEGIN:STANDARD
TZOFFSETFROM:+0200
TZOFFSETTO:+0100
TZNAME:CET
DTSTART:20261025T010000
END:STANDARD
END:VTIMEZONE
BEGIN:VEVENT
DTSTART;TZID=Europe/Warsaw:20260318T170000
DTEND;TZID=Europe/Warsaw:20260318T200000
DTSTAMP:20260424T151703
CREATED:20260311T144146Z
LAST-MODIFIED:20260311T144325Z
UID:143153-1773853200-1773864000@www.ora-warszawa.com.pl
SUMMARY:KDZ przy NRA: Dochodzenie roszczeń cywilnoprawnych w postępowaniu karnym
DESCRIPTION:Komisja Doskonalenia Zawodowego przy Naczelnej Radzie Adwokackiej zaprasza na  bezpłatny wykład dla adwokatów i aplikantów adwokackich na temat: \n„Dochodzenie roszczeń cywilnoprawnych w postępowaniu karnym” \nCelem szkolenia jest zaprezentowanie problemów dotyczących obowiązku naprawienia szkody wyrządzonej przestępstwem lub zadośćuczynienia za doznaną krzywdę w procesie karnym. Podczas szkolenia zostanie omówiony charakter prawny obowiązku naprawienia szkody w prawie karnym\, a także zasady stosowania przepisów prawa cywilnego w tym zakresie. Szkolący przedstawi zagadnienia naprawienia szkody na osobie i w mieniu\, także w kontekście zakresu obowiązku naprawienia szkody lub zadośćuczynienia. Uczestnicy szkolenia zostaną zapoznani z instytucją nawiązki jako subsydiarną formą naprawienia szkody lub zadośćuczynienia oraz z regułami orzekania o odsetkach. Podczas szkolenia omówione zostaną problemy obowiązku naprawienia szkody przy warunkowym zawieszeniu wykonania kary pozbawienia wolności oraz w sytuacji warunkowego umorzenia postępowania karnego. W trakcie szkolenia zaprezentowane też będą osoby uprawnione do dochodzenia roszczeń w procesie karnym\, a tym też naprawienie szkody i zasądzenie zadośćuczynienie w wypadku śmierci pokrzywdzonego. Końcowo\, zaprezentowane będzie też klauzula antykumulacyjna z art. 415 § 1 k.p.k.\, postępowanie wykonawcze co do orzeczenia o obowiązku naprawieni szkody lub zadośćuczynienia oraz zarzut apelacyjny w przedmiocie obowiązku naprawienia szkody lub zadośćuczynienia. \nProwadzący:  \nSSN Dariusz Świecki – Profesor Uniwersytetu Łódzkiego; doktor habilitowany na Wydziale Prawa i Administracji Uniwersytetu Łódzkiego; sędzia Sądu Najwyższego w Izbie Karnej; autor wielu książek\, m.in. „Czynności procesowe obrońcy i pełnomocnika w sprawach karnych”\, „Postępowanie odwoławcze. Komentarz. Orzecznictwo”\, „Konstrukcja apelacji jako środka odwoławczego w procesie karnym”\, „Zarzut apelacyjny w procesie karnym”; redaktor i współautor publikacji „Kodeks postępowania karnego. Komentarz” \nCzas trwania: 180 min. \nSzkolenie odbędzie się w dniu 18.03.2026 r. w godz. 17:00 – 20.00 \nDokładne informacje dotyczące wykładu oraz rejestracji na szkolenie znajdują się pod linkiem: \nhttps://nra.e-soa.pl/szkolenia/addZgloszeniaBPClient/189/189 \nW celu rejestracji prosimy o wybranie przycisku Jestem członkiem adwokatury\, a następnie zalogowanie się do Panelu Adwokata. W przypadku braku konta w Panelu prosimy użyć funkcji Pierwsze logowanie dostępnej na dole wyświetlonej strony. \nLink do spotkania zostanie przesłany osobom bezpośrednio po rejestracji. \nZapisy na wykład przyjmujemy do dnia 17.03.2026 r. \nLiczba miejsc ograniczona\, decyduje kolejność zgłoszeń. \nWykład będzie prowadzony na żywo na platformie ClickMeeting\, a nadto zostanie nagrany i zamieszczony na stronie samorządu adwokackiego https://palestra.pl/pl/e-palestra \n\nUczestnicząc w szkoleniu mamy możliwość realizacji obowiązku doskonalenia zawodowego. \nSerdecznie zapraszamy\, \nKomisja Doskonalenia Zawodowego Naczelnej Rady Adwokackiej
URL:https://www.ora-warszawa.com.pl/wydarzenie/kdz-przy-nra-dochodzenie-roszczen-cywilnoprawnych-w-postepowaniu-karnym/
LOCATION:Platforma ClickMeeting
CATEGORIES:Komisja Doskonalenia Zawodowego
END:VEVENT
END:VCALENDAR