BEGIN:VCALENDAR
VERSION:2.0
PRODID:-//Okręgowa Rada Adwokacka w Warszawie - ECPv5.11.0//NONSGML v1.0//EN
CALSCALE:GREGORIAN
METHOD:PUBLISH
X-WR-CALNAME:Okręgowa Rada Adwokacka w Warszawie
X-ORIGINAL-URL:https://www.ora-warszawa.com.pl
X-WR-CALDESC:Wydarzenia dla Okręgowa Rada Adwokacka w Warszawie
BEGIN:VTIMEZONE
TZID:Europe/Warsaw
BEGIN:DAYLIGHT
TZOFFSETFROM:+0100
TZOFFSETTO:+0200
TZNAME:CEST
DTSTART:20230326T010000
END:DAYLIGHT
BEGIN:STANDARD
TZOFFSETFROM:+0200
TZOFFSETTO:+0100
TZNAME:CET
DTSTART:20231029T010000
END:STANDARD
END:VTIMEZONE
BEGIN:VEVENT
DTSTART;TZID=Europe/Warsaw:20230421T170000
DTEND;TZID=Europe/Warsaw:20230421T200000
DTSTAMP:20260424T135138
CREATED:20230418T093454Z
LAST-MODIFIED:20230418T093454Z
UID:118253-1682096400-1682107200@www.ora-warszawa.com.pl
SUMMARY:KDZ NRA: Zasady wykonywania pracy zdalnej oraz kontroli stanu trzeźwości pracowników
DESCRIPTION:Komisja Doskonalenia Zawodowego przy Naczelnej Radzie Adwokackiej zaprasza na wykład dla adwokatów i aplikantów adwokackich na temat: „Zasady wykonywania pracy zdalnej oraz kontroli stanu trzeźwości pracowników”. \n \nWykładowca: Maja Chodacka – Sędzia Wojewódzkiego Sądu Administracyjnego w Krakowie\, orzekająca w Naczelnym Sądzie Administracyjnym\, była radca prawny\, absolwentka Wydziału Prawa i Administracji Uniwersytetu Jagiellońskiego\, doktorantka Katedry Prawa Uniwersytetu Ekonomicznego w Krakowie\, absolwentka Studiów Doktoranckich Uniwersytetu Ekonomicznego w Krakowie\, absolwentka Studiów Podyplomowych Uniwersytetu Jagiellońskiego\, długoletni wykładowca Stowarzyszenia Księgowych w Polsce\, Uniwersytetu Ekonomicznego w Krakowie i Wyższej Szkoły Zarządzania i Bankowości w Krakowie\, praktyk i specjalistka z zakresu prawa pracy i prawa podatkowego\, od kilkunastu lat dydaktycznie zajmująca się problematyką prawa pracy. \nCzas trwania: 180 min. \nSzkolenie odbędzie się w dniu 21.04.2023 r. w godz. 17.00-20.00 \nZa udział w webinarze bądź odsłuchanie całego wykładu można uzyskać 3 punkty szkoleniowe w ramach doskonalenia zawodowego. \nW celu rejestracji prosimy o wybranie przycisku Jestem członkiem adwokatury a następnie zalogowanie się do Panelu Adwokata. W przypadku braku konta w Panelu prosimy użyć funkcji Pierwsze logowanie dostępnej na dole wyświetlonej strony. \nLink do spotkania zostanie przesłany osobom zarejestrowanym najpóźniej w dniu wykładu. \nhttps://nra.e-soa.pl/szkolenia/addZgloszeniaBPClient/43/43 \nZapisy na wykład przyjmujemy do dnia 20.04.2023 r. \nIlość miejsc ograniczona\, decyduje kolejność zgłoszeń. \nWykład będzie prowadzony na żywo\, a nadto zostanie nagrany i zamieszczony na stronie samorządu adwokackiego https://palestra.pl/pl/e-palestra \n 
URL:https://www.ora-warszawa.com.pl/wydarzenie/kdz-nra-zasady-wykonywania-pracy-zdalnej-oraz-kontroli-stanu-trzezwosci-pracownikow/
CATEGORIES:Wydarzenia zewnętrzne
END:VEVENT
END:VCALENDAR