BEGIN:VCALENDAR
VERSION:2.0
PRODID:-//Okręgowa Rada Adwokacka w Warszawie - ECPv5.11.0//NONSGML v1.0//EN
CALSCALE:GREGORIAN
METHOD:PUBLISH
X-WR-CALNAME:Okręgowa Rada Adwokacka w Warszawie
X-ORIGINAL-URL:https://www.ora-warszawa.com.pl
X-WR-CALDESC:Wydarzenia dla Okręgowa Rada Adwokacka w Warszawie
BEGIN:VTIMEZONE
TZID:Europe/Warsaw
BEGIN:DAYLIGHT
TZOFFSETFROM:+0100
TZOFFSETTO:+0200
TZNAME:CEST
DTSTART:20220327T010000
END:DAYLIGHT
BEGIN:STANDARD
TZOFFSETFROM:+0200
TZOFFSETTO:+0100
TZNAME:CET
DTSTART:20221030T010000
END:STANDARD
END:VTIMEZONE
BEGIN:VEVENT
DTSTART;VALUE=DATE:20220316
DTEND;VALUE=DATE:20220317
DTSTAMP:20260424T135307
CREATED:20220314T124336Z
LAST-MODIFIED:20220314T124336Z
UID:54352-1647388800-1647475199@www.ora-warszawa.com.pl
SUMMARY:KDZ NRA: Adwokat na granicy – zagadnienia praktyczne
DESCRIPTION:Komisja Doskonalenia Zawodowego przy Naczelnej Radzie Adwokackiej zaprasza na bezpłatny wykład dla adwokatów i aplikantów adwokackich: „Adwokat na granicy – zagadnienia praktyczne”. \nWykładowca: Pani adw. Anna Jaczun \nCzas trwania: 120 min. \nWykład będzie stale dostępny na e-palestrze od dnia 16 marca 2022 r. \nZa udział w webinarze i odsłuchanie całego wykładu można uzyskać 2 punkty szkoleniowego w ramach doskonalenia zawodowego. \nWykład nie będzie prowadzony na żywo\, zostanie nagrany i zamieszczony na stronie samorządu adwokackiego https://palestra.pl/pl/e-palestra/ \nW przypadku nie posiadania konta na portalu Palestry należy dokonać uprzedniej rejestracji. \nAby to wykonać należy pod linkiem https://palestra.pl/pl/zaloguj wybrać przycisk Rejestracja i zgodnie z wyświetlana informacją uzupełnić wskazane 3 pola. W przypadku problemów z rejestracją prosimy o kontakt z Państwa biurem ORA celem zweryfikowania czy wpisywane dane są tożsame z danymi dostępnymi w elektronicznym Systemie Obsługi Adwokatury\, a tym samym w Krajowym Rejestrze Adwokatów i Aplikantów Adwokackich. W przypadku aktualizacji danych dostęp do portalu Palestry będzie dostępny następnego dnia. \nWięcej o portalu Palestra w tym jak można uzyskać punkty szkoleniowe w tym serwisie dostępne jest tutaj: https://palestra.pl/pl/faq \nSerdecznie zapraszamy! \nadw. Grzegorz Kopeć\nPrzewodniczący Komisji Doskonalenia Zawodowego przy NRA
URL:https://www.ora-warszawa.com.pl/wydarzenie/kdz-nra-adwokat-na-granicy-zagadnienia-praktyczne/
LOCATION:Naczelna Rada Adwokacka\, Świętojerska 16\, Warszawa
CATEGORIES:Wydarzenia zewnętrzne
END:VEVENT
END:VCALENDAR